{"text_format":"1","workbook":"xlsx","n_sheets":5,"sheets":["Mode d'emploi","A remplir","Ne pas toucher","Annexe","Résultat"],"not_rendered":{"charts":0,"images":2,"macros":1,"external_links":0,"defined_names":1,"comments":2,"pivot_tables":0},"unopened":[],"bounds":{"document_bytes":16777216,"sheet_cells":100000,"rows_first":2000,"rows_last":500,"rows_between":2000,"halvings":0,"cell_chars":16384,"cell_head_chars":4096},"cells_cut":0,"cells_raw":0,"read":"whole","date_system":"1900"}

{"sheet":"Mode d'emploi","index":0,"n_rows":0,"n_cols":0,"rows_kept":0,"cut":false,"hidden":false,"merged":[]}

{"sheet":"A remplir","index":1,"n_rows":102,"n_cols":10,"rows_kept":102,"cut":false,"hidden":false,"merged":[[8,1,8,3],[9,1,9,3],[79,1,79,3],[5,1,5,3],[6,1,6,3]]}
[null,null,"Projet de financement d'investissement eau"]
[]
[]
[null,"Définition du projet :"]
[]
[null,"Libellé du projet"]
[null,"Projet eau potable"]
[]
[null,"Nom de la Commune"]
[null,"La Balme sur Hers",null,null,null,null,null,"A REMPLIR OBLIGATOIREMENT !!"]
[]
[null,"Type de projet ",null,"ZRR",null,"Nombre d'habitants de la commune",null,"Taux actuel du livret A ",null,"Taux prêt BEI à 15 ans"]
[null,"Traitement eau potable (bacteriologie, turbidité, arsenic)",null,"Oui",null,60000,null,"0,75%",null,"1,41%"]
[]
[null,"Date de début des travaux ",null,"Prioritaire",null,null,null,null,null,"Taux prêt BEI à 20 ans"]
[null,"(au format JJ/MM/AAAA)",null,"Oui",null,null,null,null,null,"1,69%"]
[null,"18/02/2019"]
[null,null,null,null,null,null,null,null,null,"Taux prêt BEI à 25 ans"]
[null,"Date de début de financement ",null,null,null,null,null,null,null,"1,87%"]
[null,"(au format JJ/MM/AAAA)"]
[null,"2019-01-01"]
[]
[]
[]
[null,"Coût des travaux (en € HT) :"]
[]
[null,"Montant total du projet"]
[null,700000,null,{"$f":"IF(B28=B33+D33+F33+H33+J33,\"\",\"Attention, le montant total du projet n'est pas égal à la somme des 5 parties détaillées !!\")","v":""}]
[]
[null,"dont:"]
[]
[null,"en terrain",null,"en acquisition bâtiment",null,"voirie",null,"Construction / travaux",null,"Autres"]
[null,0,null,0,null,0,null,700000,null,0]
[]
[]
[]
[null,"Budget principal de la collectivité (année en cours en € HT) :"]
[]
[null,"Budget principal",null,"Encours de dette",null,"Epargne brute",null,"Epargne nette",null,"Annuité d'emprunt"]
[null,0,null,0,null,0,null,0,null,0]
[]
[null,"Si d'autres projets d'investissement sont déjà décidés et inscrits au budget principal mais dont le financement n'apparait pas encore dans l'encours de dette, "]
[null,"veuillez en précisez le montant total, la durée d'endettement et le montant des annuités."]
[]
[null,"Montant",null,"Durée",null,"Annuité "]
[null,0,null,0,null,0]
[]
[]
[]
[null,"Budget annexe de la collectivité (année en cours en € HT) :"]
[]
[null,"Budget annexe",null,"Encours de dette",null,"Epargne brute",null,"Epargne nette",null,"Annuité"]
[null,0,null,400000,null,400000,null,300000,null,50000]
[]
[null,"Si d'autres projets d'investissement sont déjà décidés et inscrits au budget annexe mais dont le financement n'apparait pas encore dans l'encours de dette, "]
[null,"veuillez en précisez le montant total, la durée d'endettement et le montant des annuités."]
[]
[null,"Montant",null,"Durée",null,"Annuité "]
[null,0,null,0,null,0]
[]
[]
[]
[null,"Eventuellement pour cette opération (en €) :"]
[]
[null,"Prêt autre que CDC  (montant)",null,"Durée",null,"Taux",null,"Annuité"]
[null,0,null,15,null,"1,50%",null,{"$f":"(B66*F66)/(1-(1+F66)^(-D66))","v":0}]
[null,"(obtenu ou demandé)"]
[]
[null,"Montant des fonds propres mobilisés\npour le projet eau(en €)"]
[null,180000]
[]
[]
[null,"Total des subventions \nautres que AEAG (en €)"]
[null,50000]
[]
[]
[]
[null,"Eligibilité du projet au financement AEAG et CDC :"]
[]
[null,{"$f":"IF((B17)<TODAY(),\"Non éligible, les travaux ont déjà commencé\", IF(B13=\"Autre\",\"Type de travaux non éligible\",\"Projet a priori éligible\"))","v":"Projet a priori éligible"}]
[]
[]
[]
[null,"Financements de l'AEAG et de la Caisse des dépôts envisagés (en €) :"]
[]
["Subvention  AEAG :"]
[null,"Subvention AEAG",null,"Montant en €"]
[null,{"$f":"IF(B13='Ne pas toucher'!T2,IF(D16=\"Oui\",IF(D13=\"Oui\",50%,30%),IF(D13=\"Oui\",30%,10%)),    IF(OR(B13='Ne pas toucher'!T3,B13='Ne pas toucher'!T8),50%,IF(OR(B13='Ne pas toucher'!T4,B13='Ne pas toucher'!T6),IF(D16=\"oui\",IF(D13=\"oui\",50%,30%),IF(D13=\"oui\",30%,10%)),IF(B13='Ne pas toucher'!T5,IF(D13=\"oui\",30%,0%),IF(B13='Ne pas toucher'!T7,IF(D13=\"oui\",50%,0),50%)))))","v":0.5},null,{"$f":"H33*B88","v":350000}]
[]
["Avance remboursable AEAG :"]
[null,"Avance remboursable AEAG",null,"Montant en €",null,"Durée (en années)",null,"Différé de remboursement",null,"Annuité"]
[null,{"$f":"IF(B13='Ne pas toucher'!A2,\"30%\",\"0%\")","v":"0%"},null,{"$f":"H33*B92","v":0},null,15,null,"3 ans",null,{"$f":"D92/F92","v":0}]
[]
["Prêt Caisse des dépôts :"]
[null,"Prêt CDC (type)",null,"Taux \"autre prêt\" CDC",null,"Montant max finançable par la CDC "]
[null,"AQUAPRET",null,"0,00%",null,200000]
[]
[null,"Montant",null,"Durée souhaitée",null,"Durée du prêt ",null,"Annuité ",null,"Taux "]
[null,120000,null,47,null,45,null,{"$f":"(B99*J99)/(1-(1+J99)^(-F99))","v":3686.3712533950056},null,{"$f":"IF(B96='Ne pas toucher'!A18,'A remplir'!J13,IF(B96='Ne pas toucher'!A19,'A remplir'!J16,IF(B96='Ne pas toucher'!A20,'A remplir'!J19,IF(OR(B96='Ne pas toucher'!A24,B96='Ne pas toucher'!A21),'A remplir'!H13+0.75%,IF(B96='Ne pas toucher'!A22,'A remplir'!H13+1%,'A remplir'!D96)))))","v":1.4999999999999999E-2}]
[]
[null,null,null,"Attention: les prêts BEI sont obligatoirement sur 15, 20 ou 25 ans"]
[null,null,null,"Attention: la durée de l'AQUAPRET est obligatoirement entre 25 et 60 ans"]

{"sheet":"Ne pas toucher","index":2,"n_rows":70,"n_cols":20,"rows_kept":70,"cut":false,"hidden":false,"merged":[]}
[null,null,null,null,null,null,null,null,null,null,"Options de fenêtre formulaire :",null,null,null,null,null,null,null,null,"Type de projet"]
[null,null,null,null,null,null,null,null,null,null,"Fenêtre modale ?","Non",null,null,null,null,null,null,null,"Réseaux de transfert Réhabilitation de réseau Collecte eaux usées"]
[null,null,null,null,null,null,null,null,null,null,"Valeurs initiales à vide ?","Non",null,null,null,null,null,null,null,"Restructuration de l'alimentation en eau potable"]
[null,null,null,"Amortissement prioritaire:",null,null,null,null,null,null,"Bouton \"Annuler et fermer\" visible ?","Oui",null,null,null,null,null,null,null,"Station de traitement eaux usées"]
[null,null,null,"Échéance","Date","annuité","dont capital","dont intérêts","capital restant dû",null,"Onglets Etapes visibles ?","Oui",null,null,null,null,null,null,null,"Extention réseau de collecte eaux usées"]
[null,null,null,1,{"$f":"'A remplir'!$B$17","v":"18/02/2019"},{"$f":"G6+H6","v":0},{"$f":"IF('Ne pas toucher'!I6>0,'A remplir'!B$66/'A remplir'!D$66,0)","v":0},{"$f":"I6*'A remplir'!F$66","v":0},{"$f":"'A remplir'!B66-('A remplir'!B66/'A remplir'!D66)","v":0},null,null,null,null,null,null,null,null,null,null,"Bassin de stockage, de restitution Déversoir d'orage"]
[null,null,null,2,{"$f":"DATE(YEAR(E6)+1,MONTH(E6),DAY(E6))","v":"2020-02-18"},{"$f":"G7+H7","v":0},{"$f":"IF('Ne pas toucher'!I6>0,'A remplir'!B$66/'A remplir'!D$66,0)","v":0},{"$f":"I6*'A remplir'!F$66","v":0},{"$f":"IF(I6>0,I6-G6,0)","v":0},null,null,null,null,null,null,null,null,null,null,"Traitement eau potable (bacteriologie, turbidité, arsenic)"]
[null,null,null,3,{"$f":"DATE(YEAR(E7)+1,MONTH(E7),DAY(E7))","v":"2021-02-18"},0,{"$f":"IF('Ne pas toucher'!I7>0,'A remplir'!B$66/'A remplir'!D$66,0)","v":0},{"$f":"I7*'A remplir'!F$66","v":0},{"$f":"IF(I7>0,I7-G7,0)","v":0},null,null,null,null,null,null,null,null,null,null,"Traitement eau potable (nitrate, phytosanitaire)"]
["Subventions de l'AEAG",null,null,4,"2022-02-18",0,{"$f":"IF('Ne pas toucher'!I8>0,'A remplir'!B$66/'A remplir'!D$66,0)","v":0},{"$f":"I8*'A remplir'!F$66","v":0},0,null,null,null,null,null,null,null,null,null,null,"autres"]
["Type 1",null,null,5,"2023-02-18",0,{"$f":"IF('Ne pas toucher'!I9>0,'A remplir'!B$66/'A remplir'!D$66,0)","v":0},{"$f":"I9*'A remplir'!F$66","v":0},0]
["Type 2",null,null,6,"2024-02-18",0,{"$f":"IF('Ne pas toucher'!I10>0,'A remplir'!B$66/'A remplir'!D$66,0)","v":0},{"$f":"I10*'A remplir'!F$66","v":0},0]
["Type 3",null,null,7,"2025-02-18",0,{"$f":"IF('Ne pas toucher'!I11>0,'A remplir'!B$66/'A remplir'!D$66,0)","v":0},{"$f":"I11*'A remplir'!F$66","v":0},0]
["Non éligible",null,null,8,"2026-02-18",0,{"$f":"IF('Ne pas toucher'!I12>0,'A remplir'!B$66/'A remplir'!D$66,0)","v":0},{"$f":"I12*'A remplir'!F$66","v":0},0]
[null,null,null,9,"2027-02-18",0,{"$f":"IF('Ne pas toucher'!I13>0,'A remplir'!B$66/'A remplir'!D$66,0)","v":0},{"$f":"I13*'A remplir'!F$66","v":0},0]
[null,null,null,10,"2028-02-18",0,{"$f":"IF('Ne pas toucher'!I14>0,'A remplir'!B$66/'A remplir'!D$66,0)","v":0},{"$f":"I14*'A remplir'!F$66","v":0},0]
[null,null,null,11,"2029-02-18",0,{"$f":"IF('Ne pas toucher'!I15>0,'A remplir'!B$66/'A remplir'!D$66,0)","v":0},{"$f":"I15*'A remplir'!F$66","v":0},0]
["Prêt de la Caisse des dépôts",null,null,12,"2030-02-18",0,{"$f":"IF('Ne pas toucher'!I16>0,'A remplir'!B$66/'A remplir'!D$66,0)","v":0},{"$f":"I16*'A remplir'!F$66","v":0},0]
["Prêt BEI sur 15 ans",null,null,13,"2031-02-18",0,{"$f":"IF('Ne pas toucher'!I17>0,'A remplir'!B$66/'A remplir'!D$66,0)","v":0},{"$f":"I17*'A remplir'!F$66","v":0},0]
["Prêt BEI sur 20 ans",null,null,14,"2032-02-18",0,{"$f":"IF('Ne pas toucher'!I18>0,'A remplir'!B$66/'A remplir'!D$66,0)","v":0},{"$f":"I18*'A remplir'!F$66","v":0},{"$f":"IF(I18>0,I18-G18,0)","v":0}]
["Prêt BEI sur 25 ans",null,null,15,"2033-02-18",0,{"$f":"IF('Ne pas toucher'!I19>0,'A remplir'!B$66/'A remplir'!D$66,0)","v":0},{"$f":"I19*'A remplir'!F$66","v":0},0]
["Prêt Croissance Verte",null,null,16,"2034-02-18",0,{"$f":"IF('Ne pas toucher'!I20>0,'A remplir'!B$66/'A remplir'!D$66,0)","v":0},{"$f":"I20*'A remplir'!F$66","v":0},0]
["Prêt au Secteur Public Local",null,null,17,"2035-02-18",0,{"$f":"IF('Ne pas toucher'!I21>0,'A remplir'!B$66/'A remplir'!D$66,0)","v":0},{"$f":"I21*'A remplir'!F$66","v":0},0]
["Autre prêt (indiquer le taux)",null,null,18,"2036-02-18",0,{"$f":"IF('Ne pas toucher'!I22>0,'A remplir'!B$66/'A remplir'!D$66,0)","v":0},{"$f":"I22*'A remplir'!F$66","v":0},0]
["AQUAPRET",null,null,19,"2037-02-18",0,{"$f":"IF('Ne pas toucher'!I23>0,'A remplir'!B$66/'A remplir'!D$66,0)","v":0},{"$f":"I23*'A remplir'!F$66","v":0},0]
[null,null,null,20,"2038-02-18",0,{"$f":"IF('Ne pas toucher'!I24>0,'A remplir'!B$66/'A remplir'!D$66,0)","v":0},{"$f":"I24*'A remplir'!F$66","v":0},0]
[null,null,null,21,"2039-02-18",0,{"$f":"IF('Ne pas toucher'!I25>0,'A remplir'!B$66/'A remplir'!D$66,0)","v":0},{"$f":"I25*'A remplir'!F$66","v":0},0]
[null,null,null,22,"2040-02-18",0,{"$f":"IF('Ne pas toucher'!I26>0,'A remplir'!B$66/'A remplir'!D$66,0)","v":0},{"$f":"I26*'A remplir'!F$66","v":0},0]
["ZRR/ Prioritaire",null,null,23,"2041-02-18",0,{"$f":"IF('Ne pas toucher'!I27>0,'A remplir'!B$66/'A remplir'!D$66,0)","v":0},{"$f":"I27*'A remplir'!F$66","v":0},0]
["Oui",null,null,24,"2042-02-18",0,{"$f":"IF('Ne pas toucher'!I28>0,'A remplir'!B$66/'A remplir'!D$66,0)","v":0},{"$f":"I28*'A remplir'!F$66","v":0},0]
["Non",null,null,25,"2043-02-18",0,{"$f":"IF('Ne pas toucher'!I29>0,'A remplir'!B$66/'A remplir'!D$66,0)","v":0},{"$f":"I29*'A remplir'!F$66","v":0},0]
[null,null,null,26,"2044-02-18",0,{"$f":"IF('Ne pas toucher'!I30>0,'A remplir'!B$66/'A remplir'!D$66,0)","v":0},{"$f":"I30*'A remplir'!F$66","v":0},0]
[null,null,null,27,"2045-02-18",0,{"$f":"IF('Ne pas toucher'!I31>0,'A remplir'!B$66/'A remplir'!D$66,0)","v":0},{"$f":"I31*'A remplir'!F$66","v":0},0]
[null,null,null,28,"2046-02-18",0,{"$f":"IF('Ne pas toucher'!I32>0,'A remplir'!B$66/'A remplir'!D$66,0)","v":0},{"$f":"I32*'A remplir'!F$66","v":0},0]
[null,null,null,29,"2047-02-18",0,{"$f":"IF('Ne pas toucher'!I33>0,'A remplir'!B$66/'A remplir'!D$66,0)","v":0},{"$f":"I33*'A remplir'!F$66","v":0},0]
["Différé de remboursement avance AEAG",null,null,30,"2048-02-18",0,{"$f":"IF('Ne pas toucher'!I34>0,'A remplir'!B$66/'A remplir'!D$66,0)","v":0},{"$f":"I34*'A remplir'!F$66","v":0},0]
["1 an",null,null,31,"2049-02-18",0,{"$f":"IF('Ne pas toucher'!I35>0,'A remplir'!B$66/'A remplir'!D$66,0)","v":0},{"$f":"I35*'A remplir'!F$66","v":0},0]
["2 ans",null,null,32,"2050-02-18",0,{"$f":"IF('Ne pas toucher'!I36>0,'A remplir'!B$66/'A remplir'!D$66,0)","v":0},{"$f":"I36*'A remplir'!F$66","v":0},0]
["3 ans",null,null,33,"2051-02-18",0,{"$f":"IF('Ne pas toucher'!I37>0,'A remplir'!B$66/'A remplir'!D$66,0)","v":0},{"$f":"I37*'A remplir'!F$66","v":0},0]
[null,null,null,34,"2052-02-18",0,{"$f":"IF('Ne pas toucher'!I38>0,'A remplir'!B$66/'A remplir'!D$66,0)","v":0},{"$f":"I38*'A remplir'!F$66","v":0},0]
[null,null,null,35,"2053-02-18",0,{"$f":"IF('Ne pas toucher'!I39>0,'A remplir'!B$66/'A remplir'!D$66,0)","v":0},{"$f":"I39*'A remplir'!F$66","v":0},0]
[null,null,null,36,"2054-02-18",0,{"$f":"IF('Ne pas toucher'!I40>0,'A remplir'!B$66/'A remplir'!D$66,0)","v":0},{"$f":"I40*'A remplir'!F$66","v":0},0]
[null,null,null,37,{"$f":"DATE(YEAR(E41)+1,MONTH(E41),DAY(E41))","v":"2055-02-18"},0,{"$f":"IF('Ne pas toucher'!I41>0,'A remplir'!B$66/'A remplir'!D$66,0)","v":0},{"$f":"I41*'A remplir'!F$66","v":0},{"$f":"IF(I41>0,I41-G41,0)","v":0}]
[null,null,null,38,"2056-02-18",0,{"$f":"IF('Ne pas toucher'!I42>0,'A remplir'!B$66/'A remplir'!D$66,0)","v":0},{"$f":"I42*'A remplir'!F$66","v":0},0]
[null,null,null,39,"2057-02-18",0,{"$f":"IF('Ne pas toucher'!I43>0,'A remplir'!B$66/'A remplir'!D$66,0)","v":0},{"$f":"I43*'A remplir'!F$66","v":0},0]
[null,null,null,40,"2058-02-18",0,{"$f":"IF('Ne pas toucher'!I44>0,'A remplir'!B$66/'A remplir'!D$66,0)","v":0},{"$f":"I44*'A remplir'!F$66","v":0},0]
[null,null,null,41,"2059-02-18",0,{"$f":"IF('Ne pas toucher'!I45>0,'A remplir'!B$66/'A remplir'!D$66,0)","v":0},{"$f":"I45*'A remplir'!F$66","v":0},0]
[null,null,null,42,{"$f":"DATE(YEAR(E46)+1,MONTH(E46),DAY(E46))","v":"2060-02-18"},0,{"$f":"IF('Ne pas toucher'!I46>0,'A remplir'!B$66/'A remplir'!D$66,0)","v":0},{"$f":"I46*'A remplir'!F$66","v":0},{"$f":"IF(I46>0,I46-G46,0)","v":0}]
[null,null,null,43,"2061-02-18",0,{"$f":"IF('Ne pas toucher'!I47>0,'A remplir'!B$66/'A remplir'!D$66,0)","v":0},{"$f":"I47*'A remplir'!F$66","v":0},0]
[null,null,null,44,"2062-02-18",0,{"$f":"IF('Ne pas toucher'!I48>0,'A remplir'!B$66/'A remplir'!D$66,0)","v":0},{"$f":"I48*'A remplir'!F$66","v":0},0]
[null,null,null,45,"2063-02-18",0,{"$f":"IF('Ne pas toucher'!I49>0,'A remplir'!B$66/'A remplir'!D$66,0)","v":0},{"$f":"I49*'A remplir'!F$66","v":0},0]
[null,null,null,46,"2064-02-18",0,{"$f":"IF('Ne pas toucher'!I50>0,'A remplir'!B$66/'A remplir'!D$66,0)","v":0},{"$f":"I50*'A remplir'!F$66","v":0},0]
[null,null,null,47,"2065-02-18",0,{"$f":"IF('Ne pas toucher'!I51>0,'A remplir'!B$66/'A remplir'!D$66,0)","v":0},{"$f":"I51*'A remplir'!F$66","v":0},0]
[null,null,null,48,"2066-02-18",0,{"$f":"IF('Ne pas toucher'!I52>0,'A remplir'!B$66/'A remplir'!D$66,0)","v":0},{"$f":"I52*'A remplir'!F$66","v":0},0]
[null,null,null,49,"2067-02-18",0,{"$f":"IF('Ne pas toucher'!I53>0,'A remplir'!B$66/'A remplir'!D$66,0)","v":0},{"$f":"I53*'A remplir'!F$66","v":0},0]
[null,null,null,50,"2068-02-18",0,{"$f":"IF('Ne pas toucher'!I54>0,'A remplir'!B$66/'A remplir'!D$66,0)","v":0},{"$f":"I54*'A remplir'!F$66","v":0},0]
[null,null,null,51,"2069-02-18",{"$f":"G56+H56","v":0},{"$f":"IF('Ne pas toucher'!I55>0,'A remplir'!B$66/'A remplir'!D$66,0)","v":0},{"$f":"I55*'A remplir'!F$66","v":0},{"$f":"IF(I55>0,I55-G55,0)","v":0}]
[null,null,null,52,"2070-02-18",0,{"$f":"IF('Ne pas toucher'!I56>0,'A remplir'!B$66/'A remplir'!D$66,0)","v":0},{"$f":"I56*'A remplir'!F$66","v":0},0]
[null,null,null,53,"2071-02-18",0,{"$f":"IF('Ne pas toucher'!I57>0,'A remplir'!B$66/'A remplir'!D$66,0)","v":0},{"$f":"I57*'A remplir'!F$66","v":0},0]
[null,null,null,54,"2072-02-18",0,{"$f":"IF('Ne pas toucher'!I58>0,'A remplir'!B$66/'A remplir'!D$66,0)","v":0},{"$f":"I58*'A remplir'!F$66","v":0},0]
[null,null,null,55,"2073-02-18",0,{"$f":"IF('Ne pas toucher'!I59>0,'A remplir'!B$66/'A remplir'!D$66,0)","v":0},{"$f":"I59*'A remplir'!F$66","v":0},0]
[null,null,null,56,"2074-02-18",0,{"$f":"IF('Ne pas toucher'!I60>0,'A remplir'!B$66/'A remplir'!D$66,0)","v":0},{"$f":"I60*'A remplir'!F$66","v":0},0]
[null,null,null,57,"2075-02-18",0,{"$f":"IF('Ne pas toucher'!I61>0,'A remplir'!B$66/'A remplir'!D$66,0)","v":0},{"$f":"I61*'A remplir'!F$66","v":0},0]
[null,null,null,58,"2076-02-18",0,{"$f":"IF('Ne pas toucher'!I62>0,'A remplir'!B$66/'A remplir'!D$66,0)","v":0},{"$f":"I62*'A remplir'!F$66","v":0},0]
[null,null,null,59,"2077-02-18",0,{"$f":"IF('Ne pas toucher'!I63>0,'A remplir'!B$66/'A remplir'!D$66,0)","v":0},{"$f":"I63*'A remplir'!F$66","v":0},0]
[null,null,null,60,"2078-02-18",0,{"$f":"IF('Ne pas toucher'!I64>0,'A remplir'!B$66/'A remplir'!D$66,0)","v":0},{"$f":"I64*'A remplir'!F$66","v":0},0]
[]
[]
[]
[]
[null,null,null,null,"Total : ",{"$f":"SUM(F6:F65)","v":0}]

{"sheet":"Annexe","index":3,"n_rows":41,"n_cols":2,"rows_kept":41,"cut":false,"hidden":false,"merged":[]}
[]
[]
[null,"Définition de l'épargne brute :"]
[]
[]
[]
[]
[]
[]
[]
[]
[]
[]
[]
[]
[]
[]
[]
[]
[]
[]
[null,"Définition de l'épargne nette :"]
[]
[]
[]
[]
[]
[]
[]
[]
[]
[]
[]
[]
[]
[]
[]
[]
[]
[]
[null,"Définition de la capacité de désendettement (CAPDES) :"]

{"sheet":"Résultat","index":4,"n_rows":214,"n_cols":13,"rows_kept":214,"cut":false,"hidden":false,"merged":[[64,1,68,4],[21,1,22,4],[46,1,50,4]]}
[]
["Projet :",{"$f":"'A remplir'!B7:D7","v":"Projet eau potable"}]
["à",{"$f":"'A remplir'!B10:D10","v":"La Balme sur Hers"}]
[]
[]
[]
[null,"Plan de financement du projet (en € HT):"]
[]
[null,"Emplois","en €","en %","Ressources","en €","en %"]
[null,"Terrain",{"$f":"'A remplir'!B33","v":0},{"$f":"C10/C$16","v":0},"Fonds propres",{"$f":"'A remplir'!B70","v":180000},{"$f":"F10/F$16","v":0.25714285714285712}]
[null,"Acquisition bâtiment",{"$f":"'A remplir'!D33","v":0},{"$f":"C11/C$16","v":0},"Subvention AEAG",{"$f":"'A remplir'!D88","v":350000},{"$f":"F11/F$16","v":0.5}]
[null,"VRD",{"$f":"'A remplir'!F33","v":0},{"$f":"C12/C$16","v":0},"Autres subventions",{"$f":"'A remplir'!B74","v":50000},{"$f":"F12/F$16","v":7.1428571428571425E-2}]
[null,"Construction / travaux",{"$f":"'A remplir'!H33","v":700000},{"$f":"C13/C$16","v":1},"Avance remboursable AEAG",{"$f":"'A remplir'!D92","v":0},{"$f":"F13/F16","v":0}]
[null,"Autres",{"$f":"'A remplir'!J33","v":0},{"$f":"C14/C$16","v":0},"Emprunt CDC",{"$f":"'A remplir'!B99","v":120000},{"$f":"F14/F$16","v":0.17142857142857143}]
[null,null,null,null,"Autre prêt pour l'opération",{"$f":"'A remplir'!B66","v":0},{"$f":"F15/F$16","v":0}]
[null,"TOTAL",{"$f":"SUM(C10:C14)","v":700000},{"$f":"C16/C$16","v":1},"TOTAL",{"$f":"SUM(F10:F15)","v":700000},{"$f":"F16/F$16","v":1}]
[]
[null,null,{"$f":"IF(C16>F16,\"Il manque :\",\"\")","v":""}]
[null,null,{"$f":"IF(C16>F16,C16-F16,\"votre projet est financé\")","v":"votre projet est financé"}]
[null,null,{"$f":"IF(C16>F16,\" pour financer votre projet\",\"\")","v":""}]
[]
[null,"Si les cases C16 et F16 sont en vert le plan de financement est équilibré."]
[]
[]
[]
[]
[]
[null,null,"Analyse financière :"]
[]
[]
[]
[]
[]
[]
[]
[]
[null,"Analyse financière de la commune sur budget annexe :"]
[]
[null,null,"Actuel","Après invest "]
[null,"encours de dette",{"$f":"'A remplir'!D53","v":400000},{"$f":"'A remplir'!D53+'A remplir'!B66+'A remplir'!D92+'A remplir'!B99+'A remplir'!B59","v":520000}]
[null,"annuité",{"$f":"'A remplir'!J53","v":50000},{"$f":"'A remplir'!J53+'A remplir'!H66+'A remplir'!J92+'A remplir'!H99+'A remplir'!F59","v":53686.371253395002},"vert si inférieur à l'épargne nette , rouge sinon"]
[null,"montant de la dette /hab",{"$f":"C40/'A remplir'!F13","v":6.666666666666667},{"$f":"D40/'A remplir'!F13","v":8.6666666666666661}]
[null,"montant invest. Projet eau /hab",null,{"$f":"('A remplir'!B99+'A remplir'!D92+'A remplir'!B66+'A remplir'!B70)/'A remplir'!F13","v":5},"vert si inférieur à 550€, orange si compris entre 550€ et 650€, rouge si supérieur à 650€"]
[null,"CAPDES pour amortissement linéaire",{"$f":"'A remplir'!D53/'A remplir'!F53","v":1},{"$f":"('A remplir'!D53+'A remplir'!B66+'A remplir'!D92+'A remplir'!B99+'A remplir'!B59)/('A remplir'!F53-E81)","v":1.3058764439979909},"vert si inférieur à 12 ans, orange si compris entre 12 et 16 ans, rouge si supérieur à 16 ans"]
[null,"CAPDES pour amortissement prioritaire",{"$f":"'A remplir'!D53/'A remplir'!F53","v":1},{"$f":"('A remplir'!D53+'A remplir'!B66+'A remplir'!D92+'A remplir'!B99+'A remplir'!B59)/('A remplir'!F53-L81)","v":1.3058764439979909}]
[]
[null,"Si la colonne D est verte, l'investissement semble opportun,\nsi elle est jaune, l'investissement comporte des risques,\nsi elle est rouge, l'investissement semble trop important et nécessite d'être réétudié.  "]
[]
[]
[]
[]
[]
[]
[]
[null,"Analyse financière sur budget principal : (uniquement pour les communes de moins de 3.000 habitants)"]
[]
[null,null,"Actuel","Après invest"]
[null,"encours de dette",{"$f":"IF('A remplir'!F13<3000,'A remplir'!D40,\"\")","v":""},{"$f":"IF('A remplir'!F13<3000,'A remplir'!B99+'A remplir'!D92+'A remplir'!B66+'A remplir'!D40+'A remplir'!B46,\"\")","v":""}]
[null,"annuité",{"$f":"IF('A remplir'!F13<3000,'A remplir'!J40,\"\")","v":""},{"$f":"IF('A remplir'!F13<3000,'A remplir'!H66+'A remplir'!J40+'A remplir'!H99+'A remplir'!F46,\"\")","v":""},"vert si inférieur à l'épargne nette , rouge sinon"]
[null,"montant de la dette /hab",{"$f":"IF('A remplir'!F13<3000,C58/'A remplir'!F13,\"\")","v":""},{"$f":"IF('A remplir'!F13<3000,D58/'A remplir'!F13,\"\")","v":""}]
[null,"montant invest./hab",null,{"$f":"IF('A remplir'!F13<3000,D43,\"\")","v":""},"vert si inférieur à 550€, orange si compris entre 550€ et 650€, rouge si supérieur à 650€"]
[null,"CAPDES pour amortissement linéaire",{"$f":"IF('A remplir'!F13<3000,(C58)/'A remplir'!F40,\"\")","v":""},{"$f":"IF('A remplir'!F13<3000,(D58)/('A remplir'!F40-E81),\"\")","v":""},"vert si inférieur à 12 ans, orange si compris entre 12 et 16 ans, rouge si supérieur à 16 ans"]
[null,"CAPDES pour amortissement prioraitaire",{"$f":"IF('A remplir'!F13<3000,C58/'A remplir'!F40,\"\")","v":""},{"$f":"IF('A remplir'!F13<3000,(D58)/('A remplir'!F40-L81),\"\")","v":""}]
[]
[null,"Si la colonne D est verte, l'investissement semble opportun,\nsi elle est jaune, l'investissement comporte des risques,\nsi elle est rouge, l'investissement semble trop important et nécessite d'être réétudié.  "]
[]
[]
[]
[]
[]
[]
[]
[null,null,"Approximation du plan d'amortissement :"]
[null,null,"Ce plan est donné uniquement à titre d'information et n'a aucune valeur d'engagement"]
[]
[]
[null,"Plan d'amortissement du prêt CDC:"]
[]
["Amortissement linéaire (prêt BEI):",null,null,null,null,null,null,"Amortissement prioritaire (AQUAPRET, PCV, PSPL): (Attention, ces prêts seront à taux variable)"]
["Échéance","Date","annuité","dont capital","dont intérêts","capital \nrestant dû",null,"Échéance","Date","annuité","dont capital","dont intérêts","capital \nrestant dû"]
[1,{"$f":"'A remplir'!$B$21","v":"2019-01-01"},{"$f":"'A remplir'!H99","v":3686.3712533950056},{"$f":"C81-E81","v":1886.3712533950056},{"$f":"'A remplir'!B99*'A remplir'!J99","v":1800},{"$f":"'A remplir'!B99-Résultat!D81","v":118113.628746605},null,1,{"$f":"'A remplir'!$B21","v":"2019-01-01"},{"$f":"IF(M81>0,K81+L81,0)","v":4466.6666666666661},{"$f":"IF(M81>0,'A remplir'!B$99/'A remplir'!F$99,0)","v":2666.6666666666665},{"$f":"'A remplir'!B99*'A remplir'!J99","v":1800},{"$f":"'A remplir'!B99-('A remplir'!B$99/'A remplir'!F$99)","v":117333.33333333333}]
[2,{"$f":"DATE(YEAR(B81)+1,MONTH(B81),DAY(B81))","v":"2020-01-01"},{"$f":"IF(F81>0.001,C81,0)","v":3686.3712533950056},{"$f":"C82-E82","v":1914.6668221959308},{"$f":"F81*'A remplir'!J$99","v":1771.7044311990749},{"$f":"IF(F81>0.001,F81-D82,0)","v":116198.96192440907},null,2,{"$f":"DATE(YEAR(I81)+1,MONTH(I81),DAY(I81))","v":"2020-01-01"},{"$f":"IF(M82>0,K82+L82,0)","v":4426.6666666666661},{"$f":"IF(M82>0,'A remplir'!B$99/'A remplir'!F$99,0)","v":2666.6666666666665},{"$f":"M81*'A remplir'!J$99","v":1759.9999999999998},{"$f":"IF(M81>0.001,M81-('A remplir'!B$99/'A remplir'!F$99),0)","v":114666.66666666666}]
[3,{"$f":"DATE(YEAR(B82)+1,MONTH(B82),DAY(B82))","v":"2021-01-01"},{"$f":"IF(F82>0.001,C82,0)","v":3686.3712533950056},1943.3868245288695,{"$f":"F82*'A remplir'!J$99","v":1742.9844288661361},{"$f":"IF(F82>0.001,F82-D83,0)","v":114255.5750998802},null,3,{"$f":"DATE(YEAR(I82)+1,MONTH(I82),DAY(I82))","v":"2021-01-01"},4386.6666666666661,{"$f":"IF(M83>0,'A remplir'!B$99/'A remplir'!F$99,0)","v":2666.6666666666665},{"$f":"M82*'A remplir'!J$99","v":1719.9999999999998},{"$f":"IF(M82>0.001,M82-('A remplir'!B$99/'A remplir'!F$99),0)","v":111999.99999999999}]
[4,"2022-01-01",3686.3712533950056,1972.5376268968027,{"$f":"F83*'A remplir'!J$99","v":1713.8336264982029},112283.0374729834,null,4,"2022-01-01",4346.6666666666661,{"$f":"IF(M84>0,'A remplir'!B$99/'A remplir'!F$99,0)","v":2666.6666666666665},{"$f":"M83*'A remplir'!J$99","v":1679.9999999999998},{"$f":"IF(M83>0.001,M83-('A remplir'!B$99/'A remplir'!F$99),0)","v":109333.33333333331}]
[5,"2023-01-01",3686.3712533950056,2002.1256913002546,{"$f":"F84*'A remplir'!J$99","v":1684.245562094751},110280.91178168314,null,5,"2023-01-01",4306.6666666666661,{"$f":"IF(M85>0,'A remplir'!B$99/'A remplir'!F$99,0)","v":2666.6666666666665},{"$f":"M84*'A remplir'!J$99","v":1639.9999999999995},{"$f":"IF(M84>0.001,M84-('A remplir'!B$99/'A remplir'!F$99),0)","v":106666.66666666664}]
[6,"2024-01-01",3686.3712533950056,2032.1575766697586,{"$f":"F85*'A remplir'!J$99","v":1654.2136767252471},108248.75420501338,null,6,"2024-01-01",4266.6666666666661,{"$f":"IF(M86>0,'A remplir'!B$99/'A remplir'!F$99,0)","v":2666.6666666666665},{"$f":"M85*'A remplir'!J$99","v":1599.9999999999995},{"$f":"IF(M85>0.001,M85-('A remplir'!B$99/'A remplir'!F$99),0)","v":103999.99999999997}]
[7,"2025-01-01",3686.3712533950056,2062.6399403198047,{"$f":"F86*'A remplir'!J$99","v":1623.7313130752007},106186.11426469358,null,7,"2025-01-01",4226.6666666666661,{"$f":"IF(M87>0,'A remplir'!B$99/'A remplir'!F$99,0)","v":2666.6666666666665},{"$f":"M86*'A remplir'!J$99","v":1559.9999999999995},{"$f":"IF(M86>0.001,M86-('A remplir'!B$99/'A remplir'!F$99),0)","v":101333.3333333333}]
[8,"2026-01-01",3686.3712533950056,2093.579539424602,{"$f":"F87*'A remplir'!J$99","v":1592.7917139704036},104092.53472526897,null,8,"2026-01-01",4186.6666666666661,{"$f":"IF(M88>0,'A remplir'!B$99/'A remplir'!F$99,0)","v":2666.6666666666665},{"$f":"M87*'A remplir'!J$99","v":1519.9999999999995},{"$f":"IF(M87>0.001,M87-('A remplir'!B$99/'A remplir'!F$99),0)","v":98666.666666666628}]
[9,"2027-01-01",3686.3712533950056,2124.9832325159714,{"$f":"F88*'A remplir'!J$99","v":1561.3880208790345},101967.551492753,null,9,"2027-01-01",4146.6666666666661,{"$f":"IF(M89>0,'A remplir'!B$99/'A remplir'!F$99,0)","v":2666.6666666666665},{"$f":"M88*'A remplir'!J$99","v":1479.9999999999993},{"$f":"IF(M88>0.001,M88-('A remplir'!B$99/'A remplir'!F$99),0)","v":95999.999999999956}]
[10,"2028-01-01",3686.3712533950056,2156.8579810037108,{"$f":"F89*'A remplir'!J$99","v":1529.513272391295},99810.693511749298,null,10,"2028-01-01",4106.6666666666661,{"$f":"IF(M90>0,'A remplir'!B$99/'A remplir'!F$99,0)","v":2666.6666666666665},{"$f":"M89*'A remplir'!J$99","v":1439.9999999999993},{"$f":"IF(M89>0.001,M89-('A remplir'!B$99/'A remplir'!F$99),0)","v":93333.333333333285}]
[11,"2029-01-01",3686.3712533950056,2189.2108507187663,{"$f":"F90*'A remplir'!J$99","v":1497.1604026762393},97621.482661030532,null,11,"2029-01-01",4066.6666666666661,{"$f":"IF(M91>0,'A remplir'!B$99/'A remplir'!F$99,0)","v":2666.6666666666665},{"$f":"M90*'A remplir'!J$99","v":1399.9999999999993},{"$f":"IF(M90>0.001,M90-('A remplir'!B$99/'A remplir'!F$99),0)","v":90666.666666666613}]
[12,"2030-01-01",3686.3712533950056,2222.0490134795477,{"$f":"F91*'A remplir'!J$99","v":1464.3222399154579},95399.433647550977,null,12,"2030-01-01",4026.6666666666656,{"$f":"IF(M92>0,'A remplir'!B$99/'A remplir'!F$99,0)","v":2666.6666666666665},{"$f":"M91*'A remplir'!J$99","v":1359.9999999999991},{"$f":"IF(M91>0.001,M91-('A remplir'!B$99/'A remplir'!F$99),0)","v":87999.999999999942}]
[13,"2031-01-01",3686.3712533950056,2255.3797486817411,{"$f":"F92*'A remplir'!J$99","v":1430.9915047132647},93144.053898869242,null,13,"2031-01-01",3986.6666666666656,{"$f":"IF(M93>0,'A remplir'!B$99/'A remplir'!F$99,0)","v":2666.6666666666665},{"$f":"M92*'A remplir'!J$99","v":1319.9999999999991},{"$f":"IF(M92>0.001,M92-('A remplir'!B$99/'A remplir'!F$99),0)","v":85333.33333333327}]
[14,"2032-01-01",3686.3712533950056,2289.210444911967,{"$f":"F93*'A remplir'!J$99","v":1397.1608084830386},90854.843453957277,null,14,"2032-01-01",3946.6666666666656,{"$f":"IF(M94>0,'A remplir'!B$99/'A remplir'!F$99,0)","v":2666.6666666666665},{"$f":"M93*'A remplir'!J$99","v":1279.9999999999991},{"$f":"IF(M93>0.001,M93-('A remplir'!B$99/'A remplir'!F$99),0)","v":82666.666666666599}]
[15,"2033-01-01",3686.3712533950056,2323.5486015856468,{"$f":"F94*'A remplir'!J$99","v":1362.8226518093591},88531.294852371633,null,15,"2033-01-01",3906.6666666666652,{"$f":"IF(M95>0,'A remplir'!B$99/'A remplir'!F$99,0)","v":2666.6666666666665},{"$f":"M94*'A remplir'!J$99","v":1239.9999999999989},{"$f":"IF(M94>0.001,M94-('A remplir'!B$99/'A remplir'!F$99),0)","v":79999.999999999927}]
[16,"2034-01-01",3686.3712533950056,2358.4018306094313,{"$f":"F95*'A remplir'!J$99","v":1327.9694227855744},86172.893021762196,null,16,"2034-01-01",3866.6666666666652,{"$f":"IF(M96>0,'A remplir'!B$99/'A remplir'!F$99,0)","v":2666.6666666666665},{"$f":"M95*'A remplir'!J$99","v":1199.9999999999989},{"$f":"IF(M95>0.001,M95-('A remplir'!B$99/'A remplir'!F$99),0)","v":77333.333333333256}]
[17,"2035-01-01",3686.3712533950056,2393.7778580685726,{"$f":"F96*'A remplir'!J$99","v":1292.593395326433},83779.115163693627,null,17,"2035-01-01",3826.6666666666652,{"$f":"IF(M97>0,'A remplir'!B$99/'A remplir'!F$99,0)","v":2666.6666666666665},{"$f":"M96*'A remplir'!J$99","v":1159.9999999999989},{"$f":"IF(M96>0.001,M96-('A remplir'!B$99/'A remplir'!F$99),0)","v":74666.666666666584}]
[18,"2036-01-01",3686.3712533950056,2429.6845259396014,{"$f":"F97*'A remplir'!J$99","v":1256.6867274554043},81349.43063775402,null,18,"2036-01-01",3786.6666666666652,{"$f":"IF(M98>0,'A remplir'!B$99/'A remplir'!F$99,0)","v":2666.6666666666665},{"$f":"M97*'A remplir'!J$99","v":1119.9999999999986},{"$f":"IF(M97>0.001,M97-('A remplir'!B$99/'A remplir'!F$99),0)","v":71999.999999999913}]
[19,"2037-01-01",3686.3712533950056,2466.1297938286953,{"$f":"F98*'A remplir'!J$99","v":1220.2414595663101},78883.300843925332,null,19,"2037-01-01",3746.6666666666652,{"$f":"IF(M99>0,'A remplir'!B$99/'A remplir'!F$99,0)","v":2666.6666666666665},{"$f":"M98*'A remplir'!J$99","v":1079.9999999999986},{"$f":"IF(M98>0.001,M98-('A remplir'!B$99/'A remplir'!F$99),0)","v":69333.333333333241}]
[20,"2038-01-01",3686.3712533950056,2503.1217407361255,{"$f":"F99*'A remplir'!J$99","v":1183.2495126588799},76380.179103189206,null,20,"2038-01-01",3706.6666666666652,{"$f":"IF(M100>0,'A remplir'!B$99/'A remplir'!F$99,0)","v":2666.6666666666665},{"$f":"M99*'A remplir'!J$99","v":1039.9999999999986},{"$f":"IF(M99>0.001,M99-('A remplir'!B$99/'A remplir'!F$99),0)","v":66666.66666666657}]
[21,"2039-01-01",3686.3712533950056,2540.6685668471673,{"$f":"F100*'A remplir'!J$99","v":1145.7026865478381},73839.510536342044,null,21,"2039-01-01",3666.6666666666652,{"$f":"IF(M101>0,'A remplir'!B$99/'A remplir'!F$99,0)","v":2666.6666666666665},{"$f":"M100*'A remplir'!J$99","v":999.99999999999852},{"$f":"IF(M100>0.001,M100-('A remplir'!B$99/'A remplir'!F$99),0)","v":63999.999999999905}]
[22,"2040-01-01",3686.3712533950056,2578.7785953498751,{"$f":"F101*'A remplir'!J$99","v":1107.5926580451305},71260.731940992177,null,22,"2040-01-01",3626.6666666666652,{"$f":"IF(M102>0,'A remplir'!B$99/'A remplir'!F$99,0)","v":2666.6666666666665},{"$f":"M101*'A remplir'!J$99","v":959.99999999999852},{"$f":"IF(M101>0.001,M101-('A remplir'!B$99/'A remplir'!F$99),0)","v":61333.333333333241}]
[23,"2041-01-01",3686.3712533950056,2617.460274280123,{"$f":"F102*'A remplir'!J$99","v":1068.9109791148826},68643.271666712055,null,23,"2041-01-01",3586.6666666666652,{"$f":"IF(M103>0,'A remplir'!B$99/'A remplir'!F$99,0)","v":2666.6666666666665},{"$f":"M102*'A remplir'!J$99","v":919.99999999999864},{"$f":"IF(M102>0.001,M102-('A remplir'!B$99/'A remplir'!F$99),0)","v":58666.666666666577}]
[24,"2042-01-01",3686.3712533950056,2656.7221783943251,{"$f":"F103*'A remplir'!J$99","v":1029.6490750006808},65986.549488317731,null,24,"2042-01-01",3546.6666666666652,{"$f":"IF(M104>0,'A remplir'!B$99/'A remplir'!F$99,0)","v":2666.6666666666665},{"$f":"M103*'A remplir'!J$99","v":879.99999999999864},{"$f":"IF(M103>0.001,M103-('A remplir'!B$99/'A remplir'!F$99),0)","v":55999.999999999913}]
[25,"2043-01-01",3686.3712533950056,2696.5730110702398,{"$f":"F104*'A remplir'!J$99","v":989.79824232476597},63289.976477247488,null,25,"2043-01-01",3506.6666666666652,{"$f":"IF(M105>0,'A remplir'!B$99/'A remplir'!F$99,0)","v":2666.6666666666665},{"$f":"M104*'A remplir'!J$99","v":839.99999999999864},{"$f":"IF(M104>0.001,M104-('A remplir'!B$99/'A remplir'!F$99),0)","v":53333.333333333248}]
[26,"2044-01-01",3686.3712533950056,2737.0216062362933,{"$f":"F105*'A remplir'!J$99","v":949.34964715871229},60552.954871011192,null,26,"2044-01-01",3466.6666666666652,{"$f":"IF(M106>0,'A remplir'!B$99/'A remplir'!F$99,0)","v":2666.6666666666665},{"$f":"M105*'A remplir'!J$99","v":799.99999999999875},{"$f":"IF(M105>0.001,M105-('A remplir'!B$99/'A remplir'!F$99),0)","v":50666.666666666584}]
[27,"2045-01-01",3686.3712533950056,2778.0769303298375,{"$f":"F106*'A remplir'!J$99","v":908.29432306516787},57774.877940681356,null,27,"2045-01-01",3426.6666666666652,{"$f":"IF(M107>0,'A remplir'!B$99/'A remplir'!F$99,0)","v":2666.6666666666665},{"$f":"M106*'A remplir'!J$99","v":759.99999999999875},{"$f":"IF(M106>0.001,M106-('A remplir'!B$99/'A remplir'!F$99),0)","v":47999.99999999992}]
[28,"2046-01-01",3686.3712533950056,2819.7480842847854,{"$f":"F107*'A remplir'!J$99","v":866.62316911022026},54955.129856396568,null,28,"2046-01-01",3386.6666666666652,{"$f":"IF(M108>0,'A remplir'!B$99/'A remplir'!F$99,0)","v":2666.6666666666665},{"$f":"M107*'A remplir'!J$99","v":719.99999999999875},{"$f":"IF(M107>0.001,M107-('A remplir'!B$99/'A remplir'!F$99),0)","v":45333.333333333256}]
[29,"2047-01-01",3686.3712533950056,2862.0443055490573,{"$f":"F108*'A remplir'!J$99","v":824.32694784594844},52093.085550847514,null,29,"2047-01-01",3346.6666666666652,{"$f":"IF(M109>0,'A remplir'!B$99/'A remplir'!F$99,0)","v":2666.6666666666665},{"$f":"M108*'A remplir'!J$99","v":679.99999999999886},{"$f":"IF(M108>0.001,M108-('A remplir'!B$99/'A remplir'!F$99),0)","v":42666.666666666591}]
[30,"2048-01-01",3686.3712533950056,2904.974970132293,{"$f":"F109*'A remplir'!J$99","v":781.3962832627127},49188.11058071522,null,30,"2048-01-01",3306.6666666666652,{"$f":"IF(M110>0,'A remplir'!B$99/'A remplir'!F$99,0)","v":2666.6666666666665},{"$f":"M109*'A remplir'!J$99","v":639.99999999999886},{"$f":"IF(M109>0.001,M109-('A remplir'!B$99/'A remplir'!F$99),0)","v":39999.999999999927}]
[31,"2049-01-01",3686.3712533950056,{"$f":"C111-E111","v":2948.5495946842775},{"$f":"F110*'A remplir'!J$99","v":737.82165871072823},46239.560986030941,null,31,"2049-01-01",3266.6666666666652,{"$f":"IF(M111>0,'A remplir'!B$99/'A remplir'!F$99,0)","v":2666.6666666666665},{"$f":"M110*'A remplir'!J$99","v":599.99999999999886},{"$f":"IF(M110>0.001,M110-('A remplir'!B$99/'A remplir'!F$99),0)","v":37333.333333333263}]
[32,"2050-01-01",3686.3712533950056,2992.7778386045416,{"$f":"F111*'A remplir'!J$99","v":693.59341479046407},43246.783147426402,null,32,"2050-01-01",3226.6666666666656,{"$f":"IF(M112>0,'A remplir'!B$99/'A remplir'!F$99,0)","v":2666.6666666666665},{"$f":"M111*'A remplir'!J$99","v":559.99999999999898},{"$f":"IF(M111>0.001,M111-('A remplir'!B$99/'A remplir'!F$99),0)","v":34666.666666666599}]
[33,"2051-01-01",3686.3712533950056,3037.6695061836099,{"$f":"F112*'A remplir'!J$99","v":648.70174721139597},40209.113641242795,null,33,"2051-01-01",3186.6666666666656,{"$f":"IF(M113>0,'A remplir'!B$99/'A remplir'!F$99,0)","v":2666.6666666666665},{"$f":"M112*'A remplir'!J$99","v":519.99999999999898},{"$f":"IF(M112>0.001,M112-('A remplir'!B$99/'A remplir'!F$99),0)","v":31999.999999999931}]
[34,"2052-01-01",3686.3712533950056,3083.2345487763637,{"$f":"F113*'A remplir'!J$99","v":603.13670461864194},37125.879092466428,null,34,"2052-01-01",3146.6666666666656,{"$f":"IF(M114>0,'A remplir'!B$99/'A remplir'!F$99,0)","v":2666.6666666666665},{"$f":"M113*'A remplir'!J$99","v":479.99999999999892},{"$f":"IF(M113>0.001,M113-('A remplir'!B$99/'A remplir'!F$99),0)","v":29333.333333333263}]
[35,"2053-01-01",3686.3712533950056,3129.4830670080091,{"$f":"F114*'A remplir'!J$99","v":556.88818638699638},33996.396025458416,null,35,"2053-01-01",3106.6666666666656,{"$f":"IF(M115>0,'A remplir'!B$99/'A remplir'!F$99,0)","v":2666.6666666666665},{"$f":"M114*'A remplir'!J$99","v":439.99999999999892},{"$f":"IF(M114>0.001,M114-('A remplir'!B$99/'A remplir'!F$99),0)","v":26666.666666666595}]
[36,"2054-01-01",3686.3712533950056,3176.4253130131292,{"$f":"F115*'A remplir'!J$99","v":509.9459403818762},30819.970712445287,null,36,"2054-01-01",3066.6666666666656,{"$f":"IF(M116>0,'A remplir'!B$99/'A remplir'!F$99,0)","v":2666.6666666666665},{"$f":"M115*'A remplir'!J$99","v":399.99999999999892},{"$f":"IF(M115>0.001,M115-('A remplir'!B$99/'A remplir'!F$99),0)","v":23999.999999999927}]
[37,"2055-01-01",3686.3712533950056,3224.0716927083263,{"$f":"F116*'A remplir'!J$99","v":462.29956068667929},27595.89901973696,null,37,"2055-01-01",3026.6666666666656,{"$f":"IF(M117>0,'A remplir'!B$99/'A remplir'!F$99,0)","v":2666.6666666666665},{"$f":"M116*'A remplir'!J$99","v":359.99999999999892},{"$f":"IF(M116>0.001,M116-('A remplir'!B$99/'A remplir'!F$99),0)","v":21333.333333333259}]
[38,"2056-01-01",3686.3712533950056,3272.4327680989513,{"$f":"F117*'A remplir'!J$99","v":413.93848529605441},24323.466251638009,null,38,"2056-01-01",2986.6666666666652,{"$f":"IF(M118>0,'A remplir'!B$99/'A remplir'!F$99,0)","v":2666.6666666666665},{"$f":"M117*'A remplir'!J$99","v":319.99999999999886},{"$f":"IF(M117>0.001,M117-('A remplir'!B$99/'A remplir'!F$99),0)","v":18666.666666666591}]
[39,"2057-01-01",3686.3712533950056,3321.5192596204356,{"$f":"F118*'A remplir'!J$99","v":364.85199377457013},21001.946992017572,null,39,"2057-01-01",2946.6666666666652,{"$f":"IF(M119>0,'A remplir'!B$99/'A remplir'!F$99,0)","v":2666.6666666666665},{"$f":"M118*'A remplir'!J$99","v":279.99999999999886},{"$f":"IF(M118>0.001,M118-('A remplir'!B$99/'A remplir'!F$99),0)","v":15999.999999999925}]
[40,"2058-01-01",3686.3712533950056,3371.3420485147421,{"$f":"F119*'A remplir'!J$99","v":315.02920488026359},17630.604943502829,null,40,"2058-01-01",2906.6666666666652,{"$f":"IF(M120>0,'A remplir'!B$99/'A remplir'!F$99,0)","v":2666.6666666666665},{"$f":"M119*'A remplir'!J$99","v":239.99999999999886},{"$f":"IF(M119>0.001,M119-('A remplir'!B$99/'A remplir'!F$99),0)","v":13333.333333333259}]
[41,"2059-01-01",3686.3712533950056,3421.912179242463,{"$f":"F120*'A remplir'!J$99","v":264.45907415254243},14208.692764260366,null,41,"2059-01-01",2866.6666666666656,{"$f":"IF(M121>0,'A remplir'!B$99/'A remplir'!F$99,0)","v":2666.6666666666665},{"$f":"M120*'A remplir'!J$99","v":199.99999999999889},{"$f":"IF(M120>0.001,M120-('A remplir'!B$99/'A remplir'!F$99),0)","v":10666.666666666593}]
[42,"2060-01-01",3686.3712533950056,3473.2408619311,{"$f":"F121*'A remplir'!J$99","v":213.13039146390548},10735.451902329267,null,42,"2060-01-01",2826.6666666666656,{"$f":"IF(M122>0,'A remplir'!B$99/'A remplir'!F$99,0)","v":2666.6666666666665},{"$f":"M121*'A remplir'!J$99","v":159.99999999999889},{"$f":"IF(M121>0.001,M121-('A remplir'!B$99/'A remplir'!F$99),0)","v":7999.9999999999272}]
[43,"2061-01-01",3686.3712533950056,3525.3394748600667,{"$f":"F122*'A remplir'!J$99","v":161.03177853493901},7210.1124274692002,null,43,"2061-01-01",2786.6666666666656,{"$f":"IF(M123>0,'A remplir'!B$99/'A remplir'!F$99,0)","v":2666.6666666666665},{"$f":"M122*'A remplir'!J$99","v":119.99999999999891},{"$f":"IF(M122>0.001,M122-('A remplir'!B$99/'A remplir'!F$99),0)","v":5333.3333333332612}]
[44,"2062-01-01",3686.3712533950056,3578.2195669829675,{"$f":"F123*'A remplir'!J$99","v":108.151686412038},3631.8928604862326,null,44,"2062-01-01",2746.6666666666656,{"$f":"IF(M124>0,'A remplir'!B$99/'A remplir'!F$99,0)","v":2666.6666666666665},{"$f":"M123*'A remplir'!J$99","v":79.99999999999892},{"$f":"IF(M123>0.001,M123-('A remplir'!B$99/'A remplir'!F$99),0)","v":2666.6666666665947}]
[45,"2063-01-01",3686.3712533950056,3631.8928604877119,{"$f":"F124*'A remplir'!J$99","v":54.47839290729349},-1.4792931324336678E-9,null,45,"2063-01-01",0,{"$f":"IF(M125>0,'A remplir'!B$99/'A remplir'!F$99,0)","v":0},{"$f":"M124*'A remplir'!J$99","v":39.99999999999892},{"$f":"IF(M124>0.001,M124-('A remplir'!B$99/'A remplir'!F$99),0)","v":-7.1850081440061331E-11}]
[46,"2064-01-01",0,2.2189396986505017E-11,{"$f":"F125*'A remplir'!J$99","v":-2.2189396986505017E-11},0,null,46,"2064-01-01",0,{"$f":"IF(M126>0,'A remplir'!B$99/'A remplir'!F$99,0)","v":0},{"$f":"M125*'A remplir'!J$99","v":-1.07775122160092E-12},{"$f":"IF(M125>0.001,M125-('A remplir'!B$99/'A remplir'!F$99),0)","v":0}]
[47,"2065-01-01",0,0,{"$f":"F126*'A remplir'!J$99","v":0},0,null,47,"2065-01-01",0,{"$f":"IF(M127>0,'A remplir'!B$99/'A remplir'!F$99,0)","v":0},{"$f":"M126*'A remplir'!J$99","v":0},{"$f":"IF(M126>0.001,M126-('A remplir'!B$99/'A remplir'!F$99),0)","v":0}]
[48,"2066-01-01",0,0,{"$f":"F127*'A remplir'!J$99","v":0},0,null,48,"2066-01-01",0,{"$f":"IF(M128>0,'A remplir'!B$99/'A remplir'!F$99,0)","v":0},{"$f":"M127*'A remplir'!J$99","v":0},{"$f":"IF(M127>0.001,M127-('A remplir'!B$99/'A remplir'!F$99),0)","v":0}]
[49,"2067-01-01",0,0,{"$f":"F128*'A remplir'!J$99","v":0},0,null,49,"2067-01-01",0,{"$f":"IF(M129>0,'A remplir'!B$99/'A remplir'!F$99,0)","v":0},{"$f":"M128*'A remplir'!J$99","v":0},{"$f":"IF(M128>0.001,M128-('A remplir'!B$99/'A remplir'!F$99),0)","v":0}]
[50,"2068-01-01",0,0,{"$f":"F129*'A remplir'!J$99","v":0},0,null,50,"2068-01-01",0,{"$f":"IF(M130>0,'A remplir'!B$99/'A remplir'!F$99,0)","v":0},{"$f":"M129*'A remplir'!J$99","v":0},{"$f":"IF(M129>0.001,M129-('A remplir'!B$99/'A remplir'!F$99),0)","v":0}]
[51,"2069-01-01",0,0,{"$f":"F130*'A remplir'!J$99","v":0},0,null,51,"2069-01-01",{"$f":"IF(M131>0,K131+L131,0)","v":0},{"$f":"IF(M131>0,'A remplir'!B$99/'A remplir'!F$99,0)","v":0},{"$f":"M130*'A remplir'!J$99","v":0},{"$f":"IF(M130>0.001,M130-('A remplir'!B$99/'A remplir'!F$99),0)","v":0}]
[52,"2070-01-01",0,0,{"$f":"F131*'A remplir'!J$99","v":0},0,null,52,"2070-01-01",0,{"$f":"IF(M132>0,'A remplir'!B$99/'A remplir'!F$99,0)","v":0},{"$f":"M131*'A remplir'!J$99","v":0},{"$f":"IF(M131>0.001,M131-('A remplir'!B$99/'A remplir'!F$99),0)","v":0}]
[53,"2071-01-01",0,0,{"$f":"F132*'A remplir'!J$99","v":0},0,null,53,"2071-01-01",0,{"$f":"IF(M133>0,'A remplir'!B$99/'A remplir'!F$99,0)","v":0},{"$f":"M132*'A remplir'!J$99","v":0},{"$f":"IF(M132>0.001,M132-('A remplir'!B$99/'A remplir'!F$99),0)","v":0}]
[54,"2072-01-01",0,0,{"$f":"F133*'A remplir'!J$99","v":0},0,null,54,"2072-01-01",0,{"$f":"IF(M134>0,'A remplir'!B$99/'A remplir'!F$99,0)","v":0},{"$f":"M133*'A remplir'!J$99","v":0},{"$f":"IF(M133>0.001,M133-('A remplir'!B$99/'A remplir'!F$99),0)","v":0}]
[55,"2073-01-01",0,0,{"$f":"F134*'A remplir'!J$99","v":0},0,null,55,"2073-01-01",0,{"$f":"IF(M135>0,'A remplir'!B$99/'A remplir'!F$99,0)","v":0},{"$f":"M134*'A remplir'!J$99","v":0},{"$f":"IF(M134>0.001,M134-('A remplir'!B$99/'A remplir'!F$99),0)","v":0}]
[56,"2074-01-01",0,0,{"$f":"F135*'A remplir'!J$99","v":0},0,null,56,"2074-01-01",0,{"$f":"IF(M136>0,'A remplir'!B$99/'A remplir'!F$99,0)","v":0},{"$f":"M135*'A remplir'!J$99","v":0},{"$f":"IF(M135>0.001,M135-('A remplir'!B$99/'A remplir'!F$99),0)","v":0}]
[57,"2075-01-01",0,0,{"$f":"F136*'A remplir'!J$99","v":0},0,null,57,"2075-01-01",0,{"$f":"IF(M137>0,'A remplir'!B$99/'A remplir'!F$99,0)","v":0},{"$f":"M136*'A remplir'!J$99","v":0},{"$f":"IF(M136>0.001,M136-('A remplir'!B$99/'A remplir'!F$99),0)","v":0}]
[58,"2076-01-01",0,0,{"$f":"F137*'A remplir'!J$99","v":0},0,null,58,"2076-01-01",0,{"$f":"IF(M138>0,'A remplir'!B$99/'A remplir'!F$99,0)","v":0},{"$f":"M137*'A remplir'!J$99","v":0},{"$f":"IF(M137>0.001,M137-('A remplir'!B$99/'A remplir'!F$99),0)","v":0}]
[59,"2077-01-01",0,0,{"$f":"F138*'A remplir'!J$99","v":0},0,null,59,"2077-01-01",0,{"$f":"IF(M139>0,'A remplir'!B$99/'A remplir'!F$99,0)","v":0},{"$f":"M138*'A remplir'!J$99","v":0},{"$f":"IF(M138>0.001,M138-('A remplir'!B$99/'A remplir'!F$99),0)","v":0}]
[60,"2078-01-01",0,0,{"$f":"F139*'A remplir'!J$99","v":0},0,null,60,"2078-01-01",0,{"$f":"IF(M140>0,'A remplir'!B$99/'A remplir'!F$99,0)","v":0},{"$f":"M139*'A remplir'!J$99","v":0},{"$f":"IF(M139>0.001,M139-('A remplir'!B$99/'A remplir'!F$99),0)","v":0}]
[]
[null,"Coût total du prêt:",{"$f":"SUM(C81:C140)","v":165886.70640277525},null,null,null,null,null,"Coût total du prêt:",{"$f":"SUM(J81:J140)","v":158693.33333333331}]
[]
[]
[]
[]
[]
[null,"Plan d'amortissement total pour le projet eau (prêt CDC + autre prêt + avance remboursable AEAG)"]
[]
["Amortissement linéaire (prêts BEI):",null,null,null,null,null,null,"Amortissement prioritaire (AQUAPRET, PCV, PSPL): (Attention, ces prêts seront à taux variable)"]
["Échéance","Date","annuité","dont capital","dont intérêts","capital \nrestant dû",null,"Échéance","Date","annuité","dont capital","dont intérêts","capital \nrestant dû"]
[1,{"$f":"'A remplir'!$B$21","v":"2019-01-01"},{"$f":"C81+'Ne pas toucher'!F6","v":3686.3712533950056},{"$f":"D81+'Ne pas toucher'!G6","v":1886.3712533950056},{"$f":"E81+'Ne pas toucher'!H6","v":1800},{"$f":"F81+'Ne pas toucher'!I6","v":118113.628746605},null,1,{"$f":"'A remplir'!$B$21","v":"2019-01-01"},{"$f":"J81+'Ne pas toucher'!F6","v":4466.6666666666661},{"$f":"K81+'Ne pas toucher'!G6","v":2666.6666666666665},{"$f":"L81+'Ne pas toucher'!H6","v":1800},{"$f":"M81+'Ne pas toucher'!I6","v":117333.33333333333}]
[2,{"$f":"DATE(YEAR(B152)+1,MONTH(B152),DAY(B152))","v":"2020-01-01"},{"$f":"C82+'Ne pas toucher'!F7","v":3686.3712533950056},{"$f":"D82+'Ne pas toucher'!G7","v":1914.6668221959308},{"$f":"E82+'Ne pas toucher'!H7","v":1771.7044311990749},{"$f":"F82+'Ne pas toucher'!I7","v":116198.96192440907},null,2,{"$f":"DATE(YEAR(I152)+1,MONTH(I152),DAY(I152))","v":"2020-01-01"},{"$f":"J82+'Ne pas toucher'!F7","v":4426.6666666666661},{"$f":"K82+'Ne pas toucher'!G7","v":2666.6666666666665},{"$f":"L82+'Ne pas toucher'!H7","v":1759.9999999999998},{"$f":"IF(M152>0.001,M82+'Ne pas toucher'!I7,0)","v":114666.66666666666}]
[3,{"$f":"DATE(YEAR(B153)+1,MONTH(B153),DAY(B153))","v":"2021-01-01"},{"$f":"C83+'Ne pas toucher'!F8","v":3686.3712533950056},{"$f":"D83+'Ne pas toucher'!G8","v":1943.3868245288695},{"$f":"E83+'Ne pas toucher'!H8","v":1742.9844288661361},{"$f":"F83+'Ne pas toucher'!I8","v":114255.5750998802},null,3,{"$f":"DATE(YEAR(I153)+1,MONTH(I153),DAY(I153))","v":"2021-01-01"},{"$f":"J83+'Ne pas toucher'!F8","v":4386.6666666666661},{"$f":"K83+'Ne pas toucher'!G8","v":2666.6666666666665},{"$f":"L83+'Ne pas toucher'!H8","v":1719.9999999999998},{"$f":"IF(M153>0.001,M83+'Ne pas toucher'!I8,0)","v":111999.99999999999}]
[4,"2022-01-01",{"$f":"C84+'Ne pas toucher'!F9+'A remplir'!J$92","v":3686.3712533950056},{"$f":"D84+'Ne pas toucher'!G9","v":1972.5376268968027},{"$f":"E84+'Ne pas toucher'!H9","v":1713.8336264982029},{"$f":"F84+'Ne pas toucher'!I9","v":112283.0374729834},null,4,"2022-01-01",{"$f":"J84+'Ne pas toucher'!F9+'A remplir'!J$92","v":4346.6666666666661},{"$f":"K84+'Ne pas toucher'!G9","v":2666.6666666666665},{"$f":"L84+'Ne pas toucher'!H9","v":1679.9999999999998},{"$f":"IF(M154>0.001,M84+'Ne pas toucher'!I9,0)","v":109333.33333333331}]
[5,{"$f":"DATE(YEAR(B155)+1,MONTH(B155),DAY(B155))","v":"2023-01-01"},{"$f":"C85+'Ne pas toucher'!F10+'A remplir'!J$92","v":3686.3712533950056},{"$f":"D85+'Ne pas toucher'!G10","v":2002.1256913002546},{"$f":"E85+'Ne pas toucher'!H10","v":1684.245562094751},{"$f":"F85+'Ne pas toucher'!I10","v":110280.91178168314},null,5,"2023-01-01",{"$f":"J85+'Ne pas toucher'!F10+'A remplir'!J$92","v":4306.6666666666661},{"$f":"K85+'Ne pas toucher'!G10","v":2666.6666666666665},{"$f":"L85+'Ne pas toucher'!H10","v":1639.9999999999995},{"$f":"IF(M155>0.001,M85+'Ne pas toucher'!I10,0)","v":106666.66666666664}]
[6,"2024-01-01",{"$f":"C86+'Ne pas toucher'!F11+'A remplir'!J$92","v":3686.3712533950056},{"$f":"D86+'Ne pas toucher'!G11","v":2032.1575766697586},{"$f":"E86+'Ne pas toucher'!H11","v":1654.2136767252471},{"$f":"F86+'Ne pas toucher'!I11","v":108248.75420501338},null,6,"2024-01-01",{"$f":"J86+'Ne pas toucher'!F11+'A remplir'!J$92","v":4266.6666666666661},{"$f":"K86+'Ne pas toucher'!G11","v":2666.6666666666665},{"$f":"L86+'Ne pas toucher'!H11","v":1599.9999999999995},{"$f":"IF(M156>0.001,M86+'Ne pas toucher'!I11,0)","v":103999.99999999997}]
[7,"2025-01-01",{"$f":"C87+'Ne pas toucher'!F12+'A remplir'!J$92","v":3686.3712533950056},{"$f":"D87+'Ne pas toucher'!G12","v":2062.6399403198047},{"$f":"E87+'Ne pas toucher'!H12","v":1623.7313130752007},{"$f":"F87+'Ne pas toucher'!I12","v":106186.11426469358},null,7,"2025-01-01",{"$f":"J87+'Ne pas toucher'!F12+'A remplir'!J$92","v":4226.6666666666661},{"$f":"K87+'Ne pas toucher'!G12","v":2666.6666666666665},{"$f":"L87+'Ne pas toucher'!H12","v":1559.9999999999995},{"$f":"IF(M157>0.001,M87+'Ne pas toucher'!I12,0)","v":101333.3333333333}]
[8,"2026-01-01",{"$f":"C88+'Ne pas toucher'!F13+'A remplir'!J$92","v":3686.3712533950056},{"$f":"D88+'Ne pas toucher'!G13","v":2093.579539424602},{"$f":"E88+'Ne pas toucher'!H13","v":1592.7917139704036},{"$f":"F88+'Ne pas toucher'!I13","v":104092.53472526897},null,8,"2026-01-01",{"$f":"J88+'Ne pas toucher'!F13+'A remplir'!J$92","v":4186.6666666666661},{"$f":"K88+'Ne pas toucher'!G13","v":2666.6666666666665},{"$f":"L88+'Ne pas toucher'!H13","v":1519.9999999999995},{"$f":"IF(M158>0.001,M88+'Ne pas toucher'!I13,0)","v":98666.666666666628}]
[9,"2027-01-01",{"$f":"C89+'Ne pas toucher'!F14+'A remplir'!J$92","v":3686.3712533950056},{"$f":"D89+'Ne pas toucher'!G14","v":2124.9832325159714},{"$f":"E89+'Ne pas toucher'!H14","v":1561.3880208790345},{"$f":"F89+'Ne pas toucher'!I14","v":101967.551492753},null,9,"2027-01-01",{"$f":"J89+'Ne pas toucher'!F14+'A remplir'!J$92","v":4146.6666666666661},{"$f":"K89+'Ne pas toucher'!G14","v":2666.6666666666665},{"$f":"L89+'Ne pas toucher'!H14","v":1479.9999999999993},{"$f":"IF(M159>0.001,M89+'Ne pas toucher'!I14,0)","v":95999.999999999956}]
[10,"2028-01-01",{"$f":"C90+'Ne pas toucher'!F15+'A remplir'!J$92","v":3686.3712533950056},{"$f":"D90+'Ne pas toucher'!G15","v":2156.8579810037108},{"$f":"E90+'Ne pas toucher'!H15","v":1529.513272391295},{"$f":"F90+'Ne pas toucher'!I15","v":99810.693511749298},null,10,"2028-01-01",{"$f":"J90+'Ne pas toucher'!F15+'A remplir'!J$92","v":4106.6666666666661},{"$f":"K90+'Ne pas toucher'!G15","v":2666.6666666666665},{"$f":"L90+'Ne pas toucher'!H15","v":1439.9999999999993},{"$f":"IF(M160>0.001,M90+'Ne pas toucher'!I15,0)","v":93333.333333333285}]
[11,"2029-01-01",{"$f":"C91+'Ne pas toucher'!F16+'A remplir'!J$92","v":3686.3712533950056},{"$f":"D91+'Ne pas toucher'!G16","v":2189.2108507187663},{"$f":"E91+'Ne pas toucher'!H16","v":1497.1604026762393},{"$f":"F91+'Ne pas toucher'!I16","v":97621.482661030532},null,11,"2029-01-01",{"$f":"J91+'Ne pas toucher'!F16+'A remplir'!J$92","v":4066.6666666666661},{"$f":"K91+'Ne pas toucher'!G16","v":2666.6666666666665},{"$f":"L91+'Ne pas toucher'!H16","v":1399.9999999999993},{"$f":"IF(M161>0.001,M91+'Ne pas toucher'!I16,0)","v":90666.666666666613}]
[12,"2030-01-01",{"$f":"C92+'Ne pas toucher'!F17+'A remplir'!J$92","v":3686.3712533950056},{"$f":"D92+'Ne pas toucher'!G17","v":2222.0490134795477},{"$f":"E92+'Ne pas toucher'!H17","v":1464.3222399154579},{"$f":"F92+'Ne pas toucher'!I17","v":95399.433647550977},null,12,"2030-01-01",{"$f":"J92+'Ne pas toucher'!F17+'A remplir'!J$92","v":4026.6666666666656},{"$f":"K92+'Ne pas toucher'!G17","v":2666.6666666666665},{"$f":"L92+'Ne pas toucher'!H17","v":1359.9999999999991},{"$f":"IF(M162>0.001,M92+'Ne pas toucher'!I17,0)","v":87999.999999999942}]
[13,"2031-01-01",{"$f":"C93+'Ne pas toucher'!F18+'A remplir'!J$92","v":3686.3712533950056},{"$f":"D93+'Ne pas toucher'!G18","v":2255.3797486817411},{"$f":"E93+'Ne pas toucher'!H18","v":1430.9915047132647},{"$f":"F93+'Ne pas toucher'!I18","v":93144.053898869242},null,13,"2031-01-01",{"$f":"J93+'Ne pas toucher'!F18+'A remplir'!J$92","v":3986.6666666666656},{"$f":"K93+'Ne pas toucher'!G18","v":2666.6666666666665},{"$f":"L93+'Ne pas toucher'!H18","v":1319.9999999999991},{"$f":"IF(M163>0.001,M93+'Ne pas toucher'!I18,0)","v":85333.33333333327}]
[14,"2032-01-01",{"$f":"C94+'Ne pas toucher'!F19+'A remplir'!J$92","v":3686.3712533950056},{"$f":"D94+'Ne pas toucher'!G19","v":2289.210444911967},{"$f":"E94+'Ne pas toucher'!H19","v":1397.1608084830386},{"$f":"F94+'Ne pas toucher'!I19","v":90854.843453957277},null,14,"2032-01-01",{"$f":"J94+'Ne pas toucher'!F19+'A remplir'!J$92","v":3946.6666666666656},{"$f":"K94+'Ne pas toucher'!G19","v":2666.6666666666665},{"$f":"L94+'Ne pas toucher'!H19","v":1279.9999999999991},{"$f":"IF(M164>0.001,M94+'Ne pas toucher'!I19,0)","v":82666.666666666599}]
[15,"2033-01-01",{"$f":"C95+'Ne pas toucher'!F20+'A remplir'!J$92","v":3686.3712533950056},{"$f":"D95+'Ne pas toucher'!G20","v":2323.5486015856468},{"$f":"E95+'Ne pas toucher'!H20","v":1362.8226518093591},{"$f":"F95+'Ne pas toucher'!I20","v":88531.294852371633},null,15,"2033-01-01",{"$f":"J95+'Ne pas toucher'!F20+'A remplir'!J$92","v":3906.6666666666652},{"$f":"K95+'Ne pas toucher'!G20","v":2666.6666666666665},{"$f":"L95+'Ne pas toucher'!H20","v":1239.9999999999989},{"$f":"IF(M165>0.001,M95+'Ne pas toucher'!I20,0)","v":79999.999999999927}]
[16,"2034-01-01",{"$f":"C96+'Ne pas toucher'!F21+'A remplir'!J$92","v":3686.3712533950056},{"$f":"D96+'Ne pas toucher'!G21","v":2358.4018306094313},{"$f":"E96+'Ne pas toucher'!H21","v":1327.9694227855744},{"$f":"F96+'Ne pas toucher'!I21","v":86172.893021762196},null,16,"2034-01-01",{"$f":"J96+'Ne pas toucher'!F21+'A remplir'!J$92","v":3866.6666666666652},{"$f":"K96+'Ne pas toucher'!G21","v":2666.6666666666665},{"$f":"L96+'Ne pas toucher'!H21","v":1199.9999999999989},{"$f":"IF(M166>0.001,M96+'Ne pas toucher'!I21,0)","v":77333.333333333256}]
[17,"2035-01-01",{"$f":"C97+'Ne pas toucher'!F22+'A remplir'!J$92","v":3686.3712533950056},{"$f":"D97+'Ne pas toucher'!G22","v":2393.7778580685726},{"$f":"E97+'Ne pas toucher'!H22","v":1292.593395326433},{"$f":"F97+'Ne pas toucher'!I22","v":83779.115163693627},null,17,"2035-01-01",{"$f":"J97+'Ne pas toucher'!F22+'A remplir'!J$92","v":3826.6666666666652},{"$f":"K97+'Ne pas toucher'!G22","v":2666.6666666666665},{"$f":"L97+'Ne pas toucher'!H22","v":1159.9999999999989},{"$f":"IF(M167>0.001,M97+'Ne pas toucher'!I22,0)","v":74666.666666666584}]
[18,"2036-01-01",{"$f":"C98+'Ne pas toucher'!F23+'A remplir'!J$92","v":3686.3712533950056},{"$f":"D98+'Ne pas toucher'!G23","v":2429.6845259396014},{"$f":"E98+'Ne pas toucher'!H23","v":1256.6867274554043},{"$f":"F98+'Ne pas toucher'!I23","v":81349.43063775402},null,18,"2036-01-01",{"$f":"J98+'Ne pas toucher'!F23+'A remplir'!J$92","v":3786.6666666666652},{"$f":"K98+'Ne pas toucher'!G23","v":2666.6666666666665},{"$f":"L98+'Ne pas toucher'!H23","v":1119.9999999999986},{"$f":"IF(M168>0.001,M98+'Ne pas toucher'!I23,0)","v":71999.999999999913}]
[19,"2037-01-01",{"$f":"C99+'Ne pas toucher'!F24","v":3686.3712533950056},{"$f":"D99+'Ne pas toucher'!G24","v":2466.1297938286953},{"$f":"E99+'Ne pas toucher'!H24","v":1220.2414595663101},{"$f":"F99+'Ne pas toucher'!I24","v":78883.300843925332},null,19,"2037-01-01",{"$f":"J99+'Ne pas toucher'!F24","v":3746.6666666666652},{"$f":"K99+'Ne pas toucher'!G24","v":2666.6666666666665},{"$f":"L99+'Ne pas toucher'!H24","v":1079.9999999999986},{"$f":"IF(M169>0.001,M99+'Ne pas toucher'!I24,0)","v":69333.333333333241}]
[20,"2038-01-01",{"$f":"C100+'Ne pas toucher'!F25","v":3686.3712533950056},{"$f":"D100+'Ne pas toucher'!G25","v":2503.1217407361255},{"$f":"E100+'Ne pas toucher'!H25","v":1183.2495126588799},{"$f":"F100+'Ne pas toucher'!I25","v":76380.179103189206},null,20,"2038-01-01",{"$f":"J100+'Ne pas toucher'!F25","v":3706.6666666666652},{"$f":"K100+'Ne pas toucher'!G25","v":2666.6666666666665},{"$f":"L100+'Ne pas toucher'!H25","v":1039.9999999999986},{"$f":"IF(M170>0.001,M100+'Ne pas toucher'!I25,0)","v":66666.66666666657}]
[21,"2039-01-01",{"$f":"C101+'Ne pas toucher'!F26","v":3686.3712533950056},{"$f":"D101+'Ne pas toucher'!G26","v":2540.6685668471673},{"$f":"E101+'Ne pas toucher'!H26","v":1145.7026865478381},{"$f":"F101+'Ne pas toucher'!I26","v":73839.510536342044},null,21,"2039-01-01",{"$f":"J101+'Ne pas toucher'!F26","v":3666.6666666666652},{"$f":"K101+'Ne pas toucher'!G26","v":2666.6666666666665},{"$f":"L101+'Ne pas toucher'!H26","v":999.99999999999852},{"$f":"IF(M171>0.001,M101+'Ne pas toucher'!I26,0)","v":63999.999999999905}]
[22,"2040-01-01",{"$f":"C102+'Ne pas toucher'!F27","v":3686.3712533950056},{"$f":"D102+'Ne pas toucher'!G27","v":2578.7785953498751},{"$f":"E102+'Ne pas toucher'!H27","v":1107.5926580451305},{"$f":"F102+'Ne pas toucher'!I27","v":71260.731940992177},null,22,"2040-01-01",{"$f":"J102+'Ne pas toucher'!F27","v":3626.6666666666652},{"$f":"K102+'Ne pas toucher'!G27","v":2666.6666666666665},{"$f":"L102+'Ne pas toucher'!H27","v":959.99999999999852},{"$f":"IF(M172>0.001,M102+'Ne pas toucher'!I27,0)","v":61333.333333333241}]
[23,"2041-01-01",{"$f":"C103+'Ne pas toucher'!F28","v":3686.3712533950056},{"$f":"D103+'Ne pas toucher'!G28","v":2617.460274280123},{"$f":"E103+'Ne pas toucher'!H28","v":1068.9109791148826},{"$f":"F103+'Ne pas toucher'!I28","v":68643.271666712055},null,23,"2041-01-01",{"$f":"J103+'Ne pas toucher'!F28","v":3586.6666666666652},{"$f":"K103+'Ne pas toucher'!G28","v":2666.6666666666665},{"$f":"L103+'Ne pas toucher'!H28","v":919.99999999999864},{"$f":"IF(M173>0.001,M103+'Ne pas toucher'!I28,0)","v":58666.666666666577}]
[24,"2042-01-01",{"$f":"C104+'Ne pas toucher'!F29","v":3686.3712533950056},{"$f":"D104+'Ne pas toucher'!G29","v":2656.7221783943251},{"$f":"E104+'Ne pas toucher'!H29","v":1029.6490750006808},{"$f":"F104+'Ne pas toucher'!I29","v":65986.549488317731},null,24,"2042-01-01",{"$f":"J104+'Ne pas toucher'!F29","v":3546.6666666666652},{"$f":"K104+'Ne pas toucher'!G29","v":2666.6666666666665},{"$f":"L104+'Ne pas toucher'!H29","v":879.99999999999864},{"$f":"IF(M174>0.001,M104+'Ne pas toucher'!I29,0)","v":55999.999999999913}]
[25,"2043-01-01",{"$f":"C105+'Ne pas toucher'!F30","v":3686.3712533950056},{"$f":"D105+'Ne pas toucher'!G30","v":2696.5730110702398},{"$f":"E105+'Ne pas toucher'!H30","v":989.79824232476597},{"$f":"F105+'Ne pas toucher'!I30","v":63289.976477247488},null,25,"2043-01-01",{"$f":"J105+'Ne pas toucher'!F30","v":3506.6666666666652},{"$f":"K105+'Ne pas toucher'!G30","v":2666.6666666666665},{"$f":"L105+'Ne pas toucher'!H30","v":839.99999999999864},{"$f":"IF(M175>0.001,M105+'Ne pas toucher'!I30,0)","v":53333.333333333248}]
[26,"2044-01-01",{"$f":"C106+'Ne pas toucher'!F31","v":3686.3712533950056},{"$f":"D106+'Ne pas toucher'!G31","v":2737.0216062362933},{"$f":"E106+'Ne pas toucher'!H31","v":949.34964715871229},{"$f":"F106+'Ne pas toucher'!I31","v":60552.954871011192},null,26,"2044-01-01",{"$f":"J106+'Ne pas toucher'!F31","v":3466.6666666666652},{"$f":"K106+'Ne pas toucher'!G31","v":2666.6666666666665},{"$f":"L106+'Ne pas toucher'!H31","v":799.99999999999875},{"$f":"IF(M176>0.001,M106+'Ne pas toucher'!I31,0)","v":50666.666666666584}]
[27,"2045-01-01",{"$f":"C107+'Ne pas toucher'!F32","v":3686.3712533950056},{"$f":"D107+'Ne pas toucher'!G32","v":2778.0769303298375},{"$f":"E107+'Ne pas toucher'!H32","v":908.29432306516787},{"$f":"F107+'Ne pas toucher'!I32","v":57774.877940681356},null,27,"2045-01-01",{"$f":"J107+'Ne pas toucher'!F32","v":3426.6666666666652},{"$f":"K107+'Ne pas toucher'!G32","v":2666.6666666666665},{"$f":"L107+'Ne pas toucher'!H32","v":759.99999999999875},{"$f":"IF(M177>0.001,M107+'Ne pas toucher'!I32,0)","v":47999.99999999992}]
[28,"2046-01-01",{"$f":"C108+'Ne pas toucher'!F33","v":3686.3712533950056},{"$f":"D108+'Ne pas toucher'!G33","v":2819.7480842847854},{"$f":"E108+'Ne pas toucher'!H33","v":866.62316911022026},{"$f":"F108+'Ne pas toucher'!I33","v":54955.129856396568},null,28,"2046-01-01",{"$f":"J108+'Ne pas toucher'!F33","v":3386.6666666666652},{"$f":"K108+'Ne pas toucher'!G33","v":2666.6666666666665},{"$f":"L108+'Ne pas toucher'!H33","v":719.99999999999875},{"$f":"IF(M178>0.001,M108+'Ne pas toucher'!I33,0)","v":45333.333333333256}]
[29,"2047-01-01",{"$f":"C109+'Ne pas toucher'!F34","v":3686.3712533950056},{"$f":"D109+'Ne pas toucher'!G34","v":2862.0443055490573},{"$f":"E109+'Ne pas toucher'!H34","v":824.32694784594844},{"$f":"F109+'Ne pas toucher'!I34","v":52093.085550847514},null,29,"2047-01-01",{"$f":"J109+'Ne pas toucher'!F34","v":3346.6666666666652},{"$f":"K109+'Ne pas toucher'!G34","v":2666.6666666666665},{"$f":"L109+'Ne pas toucher'!H34","v":679.99999999999886},{"$f":"IF(M179>0.001,M109+'Ne pas toucher'!I34,0)","v":42666.666666666591}]
[30,"2048-01-01",{"$f":"C110+'Ne pas toucher'!F35","v":3686.3712533950056},{"$f":"D110+'Ne pas toucher'!G35","v":2904.974970132293},{"$f":"E110+'Ne pas toucher'!H35","v":781.3962832627127},{"$f":"F110+'Ne pas toucher'!I35","v":49188.11058071522},null,30,"2048-01-01",{"$f":"J110+'Ne pas toucher'!F35","v":3306.6666666666652},{"$f":"K110+'Ne pas toucher'!G35","v":2666.6666666666665},{"$f":"L110+'Ne pas toucher'!H35","v":639.99999999999886},{"$f":"IF(M180>0.001,M110+'Ne pas toucher'!I35,0)","v":39999.999999999927}]
[31,"2049-01-01",{"$f":"C111+'Ne pas toucher'!F36","v":3686.3712533950056},{"$f":"D111+'Ne pas toucher'!G36","v":2948.5495946842775},{"$f":"E111+'Ne pas toucher'!H36","v":737.82165871072823},{"$f":"F111+'Ne pas toucher'!I36","v":46239.560986030941},null,31,"2049-01-01",{"$f":"J111+'Ne pas toucher'!F36","v":3266.6666666666652},{"$f":"K111+'Ne pas toucher'!G36","v":2666.6666666666665},{"$f":"L111+'Ne pas toucher'!H36","v":599.99999999999886},{"$f":"IF(M181>0.001,M111+'Ne pas toucher'!I36,0)","v":37333.333333333263}]
[32,"2050-01-01",{"$f":"C112+'Ne pas toucher'!F37","v":3686.3712533950056},{"$f":"D112+'Ne pas toucher'!G37","v":2992.7778386045416},{"$f":"E112+'Ne pas toucher'!H37","v":693.59341479046407},{"$f":"F112+'Ne pas toucher'!I37","v":43246.783147426402},null,32,"2050-01-01",{"$f":"J112+'Ne pas toucher'!F37","v":3226.6666666666656},{"$f":"K112+'Ne pas toucher'!G37","v":2666.6666666666665},{"$f":"L112+'Ne pas toucher'!H37","v":559.99999999999898},{"$f":"IF(M182>0.001,M112+'Ne pas toucher'!I37,0)","v":34666.666666666599}]
[33,"2051-01-01",{"$f":"C113+'Ne pas toucher'!F38","v":3686.3712533950056},{"$f":"D113+'Ne pas toucher'!G38","v":3037.6695061836099},{"$f":"E113+'Ne pas toucher'!H38","v":648.70174721139597},{"$f":"F113+'Ne pas toucher'!I38","v":40209.113641242795},null,33,"2051-01-01",{"$f":"J113+'Ne pas toucher'!F38","v":3186.6666666666656},{"$f":"K113+'Ne pas toucher'!G38","v":2666.6666666666665},{"$f":"L113+'Ne pas toucher'!H38","v":519.99999999999898},{"$f":"IF(M183>0.001,M113+'Ne pas toucher'!I38,0)","v":31999.999999999931}]
[34,"2052-01-01",{"$f":"C114+'Ne pas toucher'!F39","v":3686.3712533950056},{"$f":"D114+'Ne pas toucher'!G39","v":3083.2345487763637},{"$f":"E114+'Ne pas toucher'!H39","v":603.13670461864194},{"$f":"F114+'Ne pas toucher'!I39","v":37125.879092466428},null,34,"2052-01-01",{"$f":"J114+'Ne pas toucher'!F39","v":3146.6666666666656},{"$f":"K114+'Ne pas toucher'!G39","v":2666.6666666666665},{"$f":"L114+'Ne pas toucher'!H39","v":479.99999999999892},{"$f":"IF(M184>0.001,M114+'Ne pas toucher'!I39,0)","v":29333.333333333263}]
[35,"2053-01-01",{"$f":"C115+'Ne pas toucher'!F40","v":3686.3712533950056},{"$f":"D115+'Ne pas toucher'!G40","v":3129.4830670080091},{"$f":"E115+'Ne pas toucher'!H40","v":556.88818638699638},{"$f":"F115+'Ne pas toucher'!I40","v":33996.396025458416},null,35,"2053-01-01",{"$f":"J115+'Ne pas toucher'!F40","v":3106.6666666666656},{"$f":"K115+'Ne pas toucher'!G40","v":2666.6666666666665},{"$f":"L115+'Ne pas toucher'!H40","v":439.99999999999892},{"$f":"IF(M185>0.001,M115+'Ne pas toucher'!I40,0)","v":26666.666666666595}]
[36,"2054-01-01",{"$f":"C116+'Ne pas toucher'!F41","v":3686.3712533950056},{"$f":"D116+'Ne pas toucher'!G41","v":3176.4253130131292},{"$f":"E116+'Ne pas toucher'!H41","v":509.9459403818762},{"$f":"F116+'Ne pas toucher'!I41","v":30819.970712445287},null,36,"2054-01-01",{"$f":"J116+'Ne pas toucher'!F41","v":3066.6666666666656},{"$f":"K116+'Ne pas toucher'!G41","v":2666.6666666666665},{"$f":"L116+'Ne pas toucher'!H41","v":399.99999999999892},{"$f":"IF(M186>0.001,M116+'Ne pas toucher'!I41,0)","v":23999.999999999927}]
[37,"2055-01-01",{"$f":"C117+'Ne pas toucher'!F42","v":3686.3712533950056},{"$f":"D117+'Ne pas toucher'!G42","v":3224.0716927083263},{"$f":"E117+'Ne pas toucher'!H42","v":462.29956068667929},{"$f":"F117+'Ne pas toucher'!I42","v":27595.89901973696},null,37,"2055-01-01",{"$f":"J117+'Ne pas toucher'!F42","v":3026.6666666666656},{"$f":"K117+'Ne pas toucher'!G42","v":2666.6666666666665},{"$f":"L117+'Ne pas toucher'!H42","v":359.99999999999892},{"$f":"IF(M187>0.001,M117+'Ne pas toucher'!I42,0)","v":21333.333333333259}]
[38,"2056-01-01",{"$f":"C118+'Ne pas toucher'!F43","v":3686.3712533950056},{"$f":"D118+'Ne pas toucher'!G43","v":3272.4327680989513},{"$f":"E118+'Ne pas toucher'!H43","v":413.93848529605441},{"$f":"F118+'Ne pas toucher'!I43","v":24323.466251638009},null,38,"2056-01-01",{"$f":"J118+'Ne pas toucher'!F43","v":2986.6666666666652},{"$f":"K118+'Ne pas toucher'!G43","v":2666.6666666666665},{"$f":"L118+'Ne pas toucher'!H43","v":319.99999999999886},{"$f":"IF(M188>0.001,M118+'Ne pas toucher'!I43,0)","v":18666.666666666591}]
[39,"2057-01-01",{"$f":"C119+'Ne pas toucher'!F44","v":3686.3712533950056},{"$f":"D119+'Ne pas toucher'!G44","v":3321.5192596204356},{"$f":"E119+'Ne pas toucher'!H44","v":364.85199377457013},{"$f":"F119+'Ne pas toucher'!I44","v":21001.946992017572},null,39,"2057-01-01",{"$f":"J119+'Ne pas toucher'!F44","v":2946.6666666666652},{"$f":"K119+'Ne pas toucher'!G44","v":2666.6666666666665},{"$f":"L119+'Ne pas toucher'!H44","v":279.99999999999886},{"$f":"IF(M189>0.001,M119+'Ne pas toucher'!I44,0)","v":15999.999999999925}]
[40,"2058-01-01",{"$f":"C120+'Ne pas toucher'!F45","v":3686.3712533950056},{"$f":"D120+'Ne pas toucher'!G45","v":3371.3420485147421},{"$f":"E120+'Ne pas toucher'!H45","v":315.02920488026359},{"$f":"F120+'Ne pas toucher'!I45","v":17630.604943502829},null,40,"2058-01-01",{"$f":"J120+'Ne pas toucher'!F45","v":2906.6666666666652},{"$f":"K120+'Ne pas toucher'!G45","v":2666.6666666666665},{"$f":"L120+'Ne pas toucher'!H45","v":239.99999999999886},{"$f":"IF(M190>0.001,M120+'Ne pas toucher'!I45,0)","v":13333.333333333259}]
[41,"2059-01-01",{"$f":"C121+'Ne pas toucher'!F46","v":3686.3712533950056},{"$f":"D121+'Ne pas toucher'!G46","v":3421.912179242463},{"$f":"E121+'Ne pas toucher'!H46","v":264.45907415254243},{"$f":"F121+'Ne pas toucher'!I46","v":14208.692764260366},null,41,"2059-01-01",{"$f":"J121+'Ne pas toucher'!F46","v":2866.6666666666656},{"$f":"K121+'Ne pas toucher'!G46","v":2666.6666666666665},{"$f":"L121+'Ne pas toucher'!H46","v":199.99999999999889},{"$f":"IF(M191>0.001,M121+'Ne pas toucher'!I46,0)","v":10666.666666666593}]
[42,"2060-01-01",{"$f":"C122+'Ne pas toucher'!F47","v":3686.3712533950056},{"$f":"D122+'Ne pas toucher'!G47","v":3473.2408619311},{"$f":"E122+'Ne pas toucher'!H47","v":213.13039146390548},{"$f":"F122+'Ne pas toucher'!I47","v":10735.451902329267},null,42,"2060-01-01",{"$f":"J122+'Ne pas toucher'!F47","v":2826.6666666666656},{"$f":"K122+'Ne pas toucher'!G47","v":2666.6666666666665},{"$f":"L122+'Ne pas toucher'!H47","v":159.99999999999889},{"$f":"IF(M192>0.001,M122+'Ne pas toucher'!I47,0)","v":7999.9999999999272}]
[43,"2061-01-01",{"$f":"C123+'Ne pas toucher'!F48","v":3686.3712533950056},{"$f":"D123+'Ne pas toucher'!G48","v":3525.3394748600667},{"$f":"E123+'Ne pas toucher'!H48","v":161.03177853493901},{"$f":"F123+'Ne pas toucher'!I48","v":7210.1124274692002},null,43,"2061-01-01",{"$f":"J123+'Ne pas toucher'!F48","v":2786.6666666666656},{"$f":"K123+'Ne pas toucher'!G48","v":2666.6666666666665},{"$f":"L123+'Ne pas toucher'!H48","v":119.99999999999891},{"$f":"IF(M193>0.001,M123+'Ne pas toucher'!I48,0)","v":5333.3333333332612}]
[44,"2062-01-01",{"$f":"C124+'Ne pas toucher'!F49","v":3686.3712533950056},{"$f":"D124+'Ne pas toucher'!G49","v":3578.2195669829675},{"$f":"E124+'Ne pas toucher'!H49","v":108.151686412038},{"$f":"F124+'Ne pas toucher'!I49","v":3631.8928604862326},null,44,"2062-01-01",{"$f":"J124+'Ne pas toucher'!F49","v":2746.6666666666656},{"$f":"K124+'Ne pas toucher'!G49","v":2666.6666666666665},{"$f":"L124+'Ne pas toucher'!H49","v":79.99999999999892},{"$f":"IF(M194>0.001,M124+'Ne pas toucher'!I49,0)","v":2666.6666666665947}]
[45,"2063-01-01",{"$f":"C125+'Ne pas toucher'!F50","v":3686.3712533950056},{"$f":"D125+'Ne pas toucher'!G50","v":3631.8928604877119},{"$f":"E125+'Ne pas toucher'!H50","v":54.47839290729349},{"$f":"F125+'Ne pas toucher'!I50","v":-1.4792931324336678E-9},null,45,"2063-01-01",{"$f":"J125+'Ne pas toucher'!F50","v":0},{"$f":"K125+'Ne pas toucher'!G50","v":0},{"$f":"L125+'Ne pas toucher'!H50","v":39.99999999999892},{"$f":"IF(M195>0.001,M125+'Ne pas toucher'!I50,0)","v":-7.1850081440061331E-11}]
[46,"2064-01-01",{"$f":"C126+'Ne pas toucher'!F51","v":0},{"$f":"D126+'Ne pas toucher'!G51","v":2.2189396986505017E-11},{"$f":"E126+'Ne pas toucher'!H51","v":-2.2189396986505017E-11},{"$f":"F126+'Ne pas toucher'!I51","v":0},null,46,"2064-01-01",{"$f":"J126+'Ne pas toucher'!F51","v":0},{"$f":"K126+'Ne pas toucher'!G51","v":0},{"$f":"L126+'Ne pas toucher'!H51","v":-1.07775122160092E-12},{"$f":"IF(M196>0.001,M126+'Ne pas toucher'!I51,0)","v":0}]
[47,"2065-01-01",{"$f":"C127+'Ne pas toucher'!F52","v":0},{"$f":"D127+'Ne pas toucher'!G52","v":0},{"$f":"E127+'Ne pas toucher'!H52","v":0},{"$f":"F127+'Ne pas toucher'!I52","v":0},null,47,"2065-01-01",{"$f":"J127+'Ne pas toucher'!F52","v":0},{"$f":"K127+'Ne pas toucher'!G52","v":0},{"$f":"L127+'Ne pas toucher'!H52","v":0},{"$f":"IF(M197>0.001,M127+'Ne pas toucher'!I52,0)","v":0}]
[48,"2066-01-01",{"$f":"C128+'Ne pas toucher'!F53","v":0},{"$f":"D128+'Ne pas toucher'!G53","v":0},{"$f":"E128+'Ne pas toucher'!H53","v":0},{"$f":"F128+'Ne pas toucher'!I53","v":0},null,48,"2066-01-01",{"$f":"J128+'Ne pas toucher'!F53","v":0},{"$f":"K128+'Ne pas toucher'!G53","v":0},{"$f":"L128+'Ne pas toucher'!H53","v":0},{"$f":"IF(M198>0.001,M128+'Ne pas toucher'!I53,0)","v":0}]
[49,"2067-01-01",{"$f":"C129+'Ne pas toucher'!F54","v":0},{"$f":"D129+'Ne pas toucher'!G54","v":0},{"$f":"E129+'Ne pas toucher'!H54","v":0},{"$f":"F129+'Ne pas toucher'!I54","v":0},null,49,"2067-01-01",{"$f":"J129+'Ne pas toucher'!F54","v":0},{"$f":"K129+'Ne pas toucher'!G54","v":0},{"$f":"L129+'Ne pas toucher'!H54","v":0},{"$f":"IF(M199>0.001,M129+'Ne pas toucher'!I54,0)","v":0}]
[50,"2068-01-01",{"$f":"C130+'Ne pas toucher'!F55","v":0},{"$f":"D130+'Ne pas toucher'!G55","v":0},{"$f":"E130+'Ne pas toucher'!H55","v":0},{"$f":"F130+'Ne pas toucher'!I55","v":0},null,50,"2068-01-01",{"$f":"J130+'Ne pas toucher'!F55","v":0},{"$f":"K130+'Ne pas toucher'!G55","v":0},{"$f":"L130+'Ne pas toucher'!H55","v":0},{"$f":"IF(M200>0.001,M130+'Ne pas toucher'!I55,0)","v":0}]
[51,"2069-01-01",{"$f":"C131+'Ne pas toucher'!F56","v":0},{"$f":"D131+'Ne pas toucher'!G56","v":0},{"$f":"E131+'Ne pas toucher'!H56","v":0},{"$f":"F131+'Ne pas toucher'!I56","v":0},null,51,"2069-01-01",{"$f":"J131+'Ne pas toucher'!F56","v":0},{"$f":"K131+'Ne pas toucher'!G56","v":0},{"$f":"L131+'Ne pas toucher'!H56","v":0},{"$f":"IF(M201>0.001,M131+'Ne pas toucher'!I56,0)","v":0}]
[52,"2070-01-01",{"$f":"C132+'Ne pas toucher'!F57","v":0},{"$f":"D132+'Ne pas toucher'!G57","v":0},{"$f":"E132+'Ne pas toucher'!H57","v":0},{"$f":"F132+'Ne pas toucher'!I57","v":0},null,52,"2070-01-01",{"$f":"J132+'Ne pas toucher'!F57","v":0},{"$f":"K132+'Ne pas toucher'!G57","v":0},{"$f":"L132+'Ne pas toucher'!H57","v":0},{"$f":"IF(M202>0.001,M132+'Ne pas toucher'!I57,0)","v":0}]
[53,"2071-01-01",{"$f":"C133+'Ne pas toucher'!F58","v":0},{"$f":"D133+'Ne pas toucher'!G58","v":0},{"$f":"E133+'Ne pas toucher'!H58","v":0},{"$f":"F133+'Ne pas toucher'!I58","v":0},null,53,"2071-01-01",{"$f":"J133+'Ne pas toucher'!F58","v":0},{"$f":"K133+'Ne pas toucher'!G58","v":0},{"$f":"L133+'Ne pas toucher'!H58","v":0},{"$f":"IF(M203>0.001,M133+'Ne pas toucher'!I58,0)","v":0}]
[54,"2072-01-01",{"$f":"C134+'Ne pas toucher'!F59","v":0},{"$f":"D134+'Ne pas toucher'!G59","v":0},{"$f":"E134+'Ne pas toucher'!H59","v":0},{"$f":"F134+'Ne pas toucher'!I59","v":0},null,54,"2072-01-01",{"$f":"J134+'Ne pas toucher'!F59","v":0},{"$f":"K134+'Ne pas toucher'!G59","v":0},{"$f":"L134+'Ne pas toucher'!H59","v":0},{"$f":"IF(M204>0.001,M134+'Ne pas toucher'!I59,0)","v":0}]
[55,"2073-01-01",{"$f":"C135+'Ne pas toucher'!F60","v":0},{"$f":"D135+'Ne pas toucher'!G60","v":0},{"$f":"E135+'Ne pas toucher'!H60","v":0},{"$f":"F135+'Ne pas toucher'!I60","v":0},null,55,"2073-01-01",{"$f":"J135+'Ne pas toucher'!F60","v":0},{"$f":"K135+'Ne pas toucher'!G60","v":0},{"$f":"L135+'Ne pas toucher'!H60","v":0},{"$f":"IF(M205>0.001,M135+'Ne pas toucher'!I60,0)","v":0}]
[56,"2074-01-01",{"$f":"C136+'Ne pas toucher'!F61","v":0},{"$f":"D136+'Ne pas toucher'!G61","v":0},{"$f":"E136+'Ne pas toucher'!H61","v":0},{"$f":"F136+'Ne pas toucher'!I61","v":0},null,56,"2074-01-01",{"$f":"J136+'Ne pas toucher'!F61","v":0},{"$f":"K136+'Ne pas toucher'!G61","v":0},{"$f":"L136+'Ne pas toucher'!H61","v":0},{"$f":"IF(M206>0.001,M136+'Ne pas toucher'!I61,0)","v":0}]
[57,"2075-01-01",{"$f":"C137+'Ne pas toucher'!F62","v":0},{"$f":"D137+'Ne pas toucher'!G62","v":0},{"$f":"E137+'Ne pas toucher'!H62","v":0},{"$f":"F137+'Ne pas toucher'!I62","v":0},null,57,"2075-01-01",{"$f":"J137+'Ne pas toucher'!F62","v":0},{"$f":"K137+'Ne pas toucher'!G62","v":0},{"$f":"L137+'Ne pas toucher'!H62","v":0},{"$f":"IF(M207>0.001,M137+'Ne pas toucher'!I62,0)","v":0}]
[58,"2076-01-01",{"$f":"C138+'Ne pas toucher'!F63","v":0},{"$f":"D138+'Ne pas toucher'!G63","v":0},{"$f":"E138+'Ne pas toucher'!H63","v":0},{"$f":"F138+'Ne pas toucher'!I63","v":0},null,58,"2076-01-01",{"$f":"J138+'Ne pas toucher'!F63","v":0},{"$f":"K138+'Ne pas toucher'!G63","v":0},{"$f":"L138+'Ne pas toucher'!H63","v":0},{"$f":"IF(M208>0.001,M138+'Ne pas toucher'!I63,0)","v":0}]
[59,"2077-01-01",{"$f":"C139+'Ne pas toucher'!F64","v":0},{"$f":"D139+'Ne pas toucher'!G64","v":0},{"$f":"E139+'Ne pas toucher'!H64","v":0},{"$f":"F139+'Ne pas toucher'!I64","v":0},null,59,"2077-01-01",{"$f":"J139+'Ne pas toucher'!F64","v":0},{"$f":"K139+'Ne pas toucher'!G64","v":0},{"$f":"L139+'Ne pas toucher'!H64","v":0},{"$f":"IF(M209>0.001,M139+'Ne pas toucher'!I64,0)","v":0}]
[60,"2078-01-01",{"$f":"C140+'Ne pas toucher'!F65","v":0},{"$f":"D140+'Ne pas toucher'!G65","v":0},{"$f":"E140+'Ne pas toucher'!H65","v":0},{"$f":"F140+'Ne pas toucher'!I65","v":0},null,60,"2078-01-01",{"$f":"J140+'Ne pas toucher'!F65","v":0},{"$f":"K140+'Ne pas toucher'!G65","v":0},{"$f":"L140+'Ne pas toucher'!H65","v":0},{"$f":"IF(M210>0.001,M140+'Ne pas toucher'!I65,0)","v":0}]
[]
[]
[null,"Coût total : ",{"$f":"SUM(C152:C211)","v":165886.70640277525},null,null,null,null,null,"Coût total:",{"$f":"SUM(J152:J211)","v":158693.33333333331}]